Workbook
Name _Toc286419920: 'ORCAMENTO BASICO '!#REF!

Sheet ORCAMENTO BASICO 
F1: TOTAL | H1: =F275 -> 717873
A5: PREFEITURA MUNICIPAL DE SARZEDO
B6: ORÇAMENTO BÁSICO
D8: REFERÊNCIA ABRIL/2018
A9: OBRA : | B9: Creche - Espaço Nosso
A10: LOCAL : | B10: Sarzedo - MG | D10: BDI SERV
A11: PRAZO : | B11: 12 meses | D11: ='BDI SERVIÇOS'!D20 -> 0.24873185
A13: ITEM | B13: DESCRIÇÃO DOS SERVIÇOS | C13: UNID. | D13: QUANT. | E13: PREÇO UNIT COM BDI | F13: REFERENCIA | G13: CÓDIGO | H13: PREÇO UNIT | I13: PREÇO TOTAL COM BDI
A15: 01 | B15: ADMINISTRAÇÃO LOCAL
A16: 01.01 | B16: PESSOAL TECNICO / ADMINISTRATIVO
A17: 1.1.1 | B17: ENGENHEIRO CIVIL DE OBRA PLENO COM ENCARGOS COMPLEMENTARES | C17: H | D17: 240 | E17: =H17*(1+$D$11) -> 128.48202 | F17: SINAPI | G17: 90778 | H17: 102.89 | I17: =E17*D17 -> 30835.685
A18: 01.02 | B18: MOBILIZACAO E DESMOBILIZACAO
A19: 1.2.1 | B19: MOBILIZACAO DA OBRA E DESMOBILIZACAO OBRA - SE RESTRINGIRÁ A COBRIR AS DESPESAS COM TRANSPORTE, CARGA E DESCARGA NECESSÁRIOS À MOBILIZAÇÃO E À DESMOBILIZAÇÃO DOS EQUIPAMENTOS E MÃO DE OBRA UTILIZADOS NO CANTEIRO | C19: UND | D19: 1 | E19: =H19*(1+$D$11) -> 7012.7657 | F19: COMPOSIÇÃO | G19: % | H19: 5615.91 | I19: =E19*D19 -> 7012.7657
A20: 01.03 | B20: SERVIÇOS PRELIMINARES
A21: 1.3.1 | B21: DESMATAMENTO, DESTOCAMENTO E LIMPEZA INCLUSIVE TRANSPORTE ATÉ 50 M | C21: M² | D21: 360 | E21: =H21*(1+$D$11) -> 0.41208151 | F21: SETOP | G21: PRE-DES-005 | H21: 0.33 | I21: =E21*D21 -> 148.34934
A22: 1.3.2 | B22: PLACA DE OBRA EM CHAPA DE AÇO GALVANIZADO | C22: M² | D22: 4 | E22: =H22*(1+$D$11) -> 396.28505 | F22: SINAPI | G22: 74209/001 | H22: 317.35 | I22: =E22*D22 -> 1585.1402
A23: 1.3.3 | B23: BARRACÃO DE OBRA, INCLUSIVE SANITÁRIOS | C23: M² | D23: 10 | E23: =H23*(1+$D$11) -> 505.87376 | F23: SETOP | G23: IIO-BAR-046 | H23: 405.11 | I23: =E23*D23 -> 5058.7376
A24: 1.3.4 | B24: EXECUÇÃO DE ALMOXARIFADO EM CANTEIRO DE OBRA EM CHAPA DE MADEIRA COMPENSADA, INCLUSO PRATELEIRAS. AF_02/2016 | C24: M² | D24: 4 | E24: =H24*(1+$D$11) -> 503.36381 | F24: SINAPI | G24: 93208 | H24: 403.1 | I24: =E24*D24 -> 2013.4552
A25: 1.3.5 | B25: ENTRADA PROVISORIA DE ENERGIA ELETRICA AEREA TRIFASICA 40A EM POSTE MADEIRA | C25: UND | D25: 1 | E25: =H25*(1+$D$11) -> 1464.1256 | F25: SINAPI | G25: 41598 | H25: 1172.49 | I25: =E25*D25 -> 1464.1256
A26: 1.3.6 | B26: LIGAÇÃO PROVISÓRIA DE ÁGUA E ESGOTO | C26: UND | D26: 1 | E26: =H26*(1+$D$11) -> 510.88117 | F26: SETOP | G26: IIO-LIG-015 | H26: 409.12 | I26: =E26*D26 -> 510.88117
A27: 1.3.7 | B27: CORTE DE ÁRVORE NATIVA COM MOTO-SERRA Ø >= 0,30M - ATÉ 1.000 UNIDADES | C27: UND | D27: 2 | E27: =H27*(1+$D$11) -> 39.797084 | F27: SETOP | G27: PRE-ARV-015 | H27: 31.87 | I27: =E27*D27 -> 79.594168
A28: SUBTOTAL ADMINISTRAÇÃO LOCAL | G28: =SUM(I17:I27) -> 48708.734
A29: 2 | B29: DEMOLIÇÃO E MOVIMENTAÇÃO DE TERRA
A30: 2.1 | B30: ESCAVAÇÃO MANUAL DE TERRA (DESATERRO MANUAL) | C30: M³ | D30: 180 | E30: =H30*(1+$D$11) -> 30.718803 | F30: SETOP | G30: TER-ESC-050 | H30: 24.6 | I30: =E30*D30 -> 5529.3846
A31: 2.2 | B31: REATERRO COMPACTADO DE VALA COM EQUIPAMENTO PLACA VIBRATÓRIA | C31: M³ | D31: 100 | E31: =H31*(1+$D$11) -> 32.866622 | F31: SETOP | G31: TER-REA-010 | H31: 26.32 | I31: =E31*D31 -> 3286.6622
A32: 2.3 | B32: DEMOLIÇÃO DE ALVENARIA DE TIJOLO E BLOCO SEM APROVEITAMENTO DO MATERIAL, INCLUSIVE AFASTAMENTO | C32: M³ | D32: 5.28 | E32: =H32*(1+$D$11) -> 93.867173 | F32: SETOP | G32: DEM-ALV-005 | H32: 75.17 | I32: =E32*D32 -> 495.61867
A33: 2.4 | B33: DEMOLIÇÃO DE PISO CIMENTADO OU CONTRAPISO DE ARGAMASSA, INCLUSIVE AFASTAMENTO | C33: M² | D33: 66 | E33: =H33*(1+$D$11) -> 13.648639 | F33: SETOP | G33: DEM-PIS-005 | H33: 10.93 | I33: =E33*D33 -> 900.81018
A34: 2.5 | B34: DEMOLIÇÃO DE CONCRETO ARMADO-MANUAL, INCLUSIVE AFASTAMENTO | C34: M³ | D34: 15.2 | E34: =H34*(1+$D$11) -> 273.08517 | F34: SETOP | G34: DEM-CON-010 | H34: 218.69 | I34: =E34*D34 -> 4150.8945
A35: 2.6 | B35: TRANSPORTE DE MATERIAL DEMOLIDO EM CAÇAMBA | C35: M³ | D35: =SUM(D32:D34) -> 86.48 | E35: =H35*(1+$D$11) -> 24.974637 | F35: SETOP | G35: TRA-CAÇ-015 | H35: 20 | I35: =E35*D35 -> 2159.8066
A36: 2.7 | B36: TRANSPORTE COM CAMINHÃO BASCULANTE 6 M3 EM RODOVIA PAVIMENTADA ( PARA M3XKM CR DISTÂNCIAS SUPERIORES A 4 KM) | C36: M³KM | D36: =40.96*5 -> 204.8 | E36: =H36*(1+$D$11) -> 1.7856865 | F36: SINAPI | G36: 95302 | H36: 1.43 | I36: =E36*D36 -> 365.7086
A37: SUBTOTAL ADMINISTRAÇÃO LOCAL | G37: =SUM(I30:I36) -> 16888.885
A38: 3 | B38: ARQUITETÔNICO
A39: 3.1 | B39: EDIFICAÇÃO NOVA
A40: 3.1.1 | B40: PORTA DE ALUMÍNIO DE ABRIR COM LAMBRI, COM GUARNIÇÃO, FIXAÇÃO COM PARAFUSOS - FORNECIMENTO E INSTALAÇÃO. AF_08/2015 (90X210 cm) | C40: M² | D40: 6 | E40: =H40*(1+$D$11) -> 869.21726 | F40: SINAPI | G40: 91338 | H40: 696.08 | I40: =E40*D40 -> 5215.3036
A41: 3.1.2 | B41: PORTA DE ALUMÍNIO DE ABRIR COM LAMBRI, COM GUARNIÇÃO, FIXAÇÃO COM PARAFUSOS - FORNECIMENTO E INSTALAÇÃO. AF_08/2015 (80X210 cm) | C41: M² | D41: 1 | E41: =H41*(1+$D$11) -> 869.21726 | F41: SINAPI | G41: 91338 | H41: 696.08 | I41: =E41*D41 -> 869.21726
A42: 3.1.3 | B42: PORTA DE AÇO E VIDRO 120X250 | C42: UND | D42: 2 | E42: =H42*(1+$D$11) -> 2258.4502 | F42: COMPOSIÇÃO | G42: ='COMPOSIÇÕES '!A272 -> 21 | H42: ='COMPOSIÇÕES '!H283 -> 1808.595 | I42: =E42*D42 -> 4516.9003
A43: 3.1.4 | B43: FORNECIMENTO E ASSENTAMENTO DE JANELA DE ALUMINIO, LINHA SUPREMA ACABAMENTO ANODIZADO, DE CORRER, 2 FOLHAS COM CONTRAMARCOS (200x100) - VIDRO 8MM | C43: M² | D43: 24 | E43: =H43*(1+$D$11) -> 669.9804 | F43: COMPOSIÇÃO | G43: ='COMPOSIÇÕES '!A338 -> 26 | H43: ='COMPOSIÇÕES '!H348 -> 536.52864 | I43: =E43*D43 -> 16079.53
A44: 3.1.5 | B44: FORNECIMENTO E ASSENTAMENTO DE JANELA DE ALUMINIO, LINHA SUPREMA ACABAMENTO ANODIZADO, DE CORRER, 2 FOLHAS COM CONTRAMARCOS(300x100) - VIDRO 8MM | C44: M² | D44: 18 | E44: =H44*(1+$D$11) -> 669.9804 | F44: COMPOSIÇÃO | G44: ='COMPOSIÇÕES '!A350 -> 27 | H44: ='COMPOSIÇÕES '!H361 -> 536.52864 | I44: =E44*D44 -> 12059.647
A45: 3.1.6 | B45: FORNECIMENTO E ASSENTAMENTO DE JANELA DE ALUMINIO, LINHA SUPREMA ACABAMENTO ANODIZADO, MAXIMO-AR COM CONTRAMARCOS - VIDRO 8MM | C45: M² | D45: 1.2 | E45: =H45*(1+$D$11) -> 673.77654 | F45: COMPOSIÇÃO | G45: ='COMPOSIÇÕES '!A363 -> 28 | H45: ='COMPOSIÇÕES '!H374 -> 539.56864 | I45: =E45*D45 -> 808.53185
A46: 3.1.7 | B46: JANELA REDONDA EM ALUMÍNIO E VIDRO d=90 cm - FORNECIMENTO E INSTALAÇÃO - VIDRO 8MM | C46: UND | D46: 14 | E46: =H46*(1+$D$11) -> 422.46297 | F46: COMPOSIÇÃO | G46: ='COMPOSIÇÕES '!A6 -> 1 | H46: ='COMPOSIÇÕES '!H15 -> 338.3136 | I46: =E46*D46 -> 5914.4815
...

Sheet COMPOSIÇÕES 
A1: COMPOSIÇÃO DE CUSTOS | C1: COMPOSIÇÃO DE PREÇOS
A2: OBRA : | B2: ='ORCAMENTO BASICO '!B9 -> Creche - Espaço Nosso
A3: LOCAL : | B3: ='ORCAMENTO BASICO '!B10 -> Sarzedo - MG
A4: PRAZO : | B4: ='ORCAMENTO BASICO '!B11 -> 12 meses
A6: 1 | C6: JANELA REDONDA EM ALUMÍNIO E VIDRO d=90 cm - FORNECIMENTO E INSTALAÇÃO | D6: UNID | E6: COEF | F6: CUSTO UNIT | H6: CUSTO TOTAL
A9: SINAPI | C9: CAIXILHO FIXO, DE ALUMINIO, PARA VIDRO | D9: M² | E9: 0.64 | F9: 316.02 | H9: =F9*E9 -> 202.2528
A10: SINAPI | C10: VIDRO TEMPERADO INCOLOR E= 8 MM, SEM COLOCAÇÃO | D10: M² | E10: 0.64 | F10: 150.24 | H10: =F10*E10 -> 96.1536
H11: =F11*E11 -> 0
A12: SINAPI | C12: PEDREIRO COM ENCARGOS COMPLEMENTARES | D12: H | E12: 1.65 | F12: 16.84 | H12: =F12*E12 -> 27.786
A13: SINAPI | C13: SERVENTE COM ENCARGOS COMPLEMENTARES | D13: H | E13: 0.82 | F13: 12.04 | H13: =F13*E13 -> 9.8728
A14: SINAPI | C14: ARGAMASSA TRAÇO 1:3 (CIMENTO E AREIA MÉDIA) PREPARO MANUAL | D14: M³ | E14: 0.007 | F14: 321.2 | H14: =F14*E14 -> 2.2484
H15: =SUM(H9:H14) -> 338.3136
A18: 2 | C18: AZULEJO BRANCO 25X35 - FORNECIMENTO E INSTALAÇÃO | D18: UNID | E18: COEF | F18: CUSTO UNIT | H18: CUSTO TOTAL
A21: EQUALIZAÇÃO | B21: 1 | C21: Revestimento de parede bold 25x35cm Original esmaltado branco Incefra | D21: M² | E21: 1 | F21: ='EQUALIZAÇÕES DE PROPOSTAS'!E6 -> 11.53 | H21: =F21*E21 -> 11.53
H22: =F22*E22 -> 0
A23: SINAPI | C23: AZULEJISTA OU LADRILHISTA COM ENCARCOS COMPLEMENTARES | D23: H | E23: 0.95 | F23: 17.44 | H23: =F23*E23 -> 16.568
A24: SINAPI | C24: SERVENTE COM ENCARGOS COMPLEMENTARES | D24: H | E24: 0.82 | F24: 12.04 | H24: =F24*E24 -> 9.8728
A25: SINAPI | C25: REJUNTE BRANCO, CIMENTÍCIO | D25: KG | E25: 0.24 | F25: 2.57 | H25: =F25*E25 -> 0.6168
A26: SINAPI | C26: ARGAMASSA COLANTE TIPO ACIII | D26: KG | E26: 8.62 | F26: 1.37 | H26: =F26*E26 -> 11.8094
A27: SINAPI
H28: =SUM(H23:H27) -> 38.867
A30: 3 | C30: BUCHA DE REDUÇÃO, PVC, SOLDÁVEL, DN 40MM X 32MM, INSTALADO EM RAMAL OU SUB-RAMAL DE ÁGUA - FORNECIMENTO E INSTALAÇÃO | D30: UNID | E30: COEF | F30: CUSTO UNIT | H30: CUSTO TOTAL
A33: SINAPI | C33: BUCHA DE REDUCAO DE PVC, SOLDAVEL, LONGA, COM 40 X 25 MM, PARA AGUA FRIA PREDIAL | D33: UNID | E33: 1 | F33: 2.57 | H33: =F33*E33 -> 2.57
H34: =F34*E34 -> 0
A35: SINAPI | C35: ENCANADOR OU BOMBEIRO HIDRÁULICO COM ENCARGOS COMPLEMENTARES | D35: H | E35: 0.119 | F35: 16.8 | H35: =F35*E35 -> 1.9992
A36: SINAPI | C36: AUXILIAR DE ENCANADOR OU BOMBEIRO HIDRÁULICO COM ENCARGOS COMPLEMENTARES | D36: H | E36: 0.119 | F36: 12.04 | H36: =F36*E36 -> 1.43276
A37: SINAPI | C37: SOLUCAO LIMPADORA PARA PVC, FRASCO COM 1000 CM3 | D37: UNID | E37: 0.011 | F37: 38.44 | H37: =F37*E37 -> 0.42284
A38: SINAPI | C38: ADESIVO PLASTICO PARA PVC, FRASCO COM 850 GR | D38: UNID | E38: 0.009 | F38: 44.26 | H38: =F38*E38 -> 0.39834
A39: SINAPI | C39: LIXA D'AGUA EM FOLHA, GRAO 100 | D39: UNID | E39: 0.06 | F39: 1.5 | H39: =F39*E39 -> 0.09
H40: =SUM(H33:H39) -> 6.91314
A42: 4 | C42: BUCHA DE REDUÇÃO, PVC, SOLDÁVEL, DN 32MM X 25MM, INSTALADO EM RAMAL OU SUB-RAMAL DE ÁGUA - FORNECIMENTO E INSTALAÇÃO | D42: UNID | E42: COEF | F42: CUSTO UNIT | H42: CUSTO TOTAL
A45: SINAPI | C45: BUCHA DE REDUCAO DE PVC, SOLDAVEL, CURTA, COM 32 X 25 MM, PARA AGUA FRIA PREDIAL | D45: UNID | E45: 1 | F45: 0.71 | H45: =F45*E45 -> 0.71
H46: =F46*E46 -> 0
A47: SINAPI | C47: ENCANADOR OU BOMBEIRO HIDRÁULICO COM ENCARGOS COMPLEMENTARES | D47: H | E47: 0.119 | F47: 16.8 | H47: =F47*E47 -> 1.9992
A48: SINAPI | C48: AUXILIAR DE ENCANADOR OU BOMBEIRO HIDRÁULICO COM ENCARGOS COMPLEMENTARES | D48: H | E48: 0.119 | F48: 12.04 | H48: =F48*E48 -> 1.43276
A49: SINAPI | C49: SOLUCAO LIMPADORA PARA PVC, FRASCO COM 1000 CM3 | D49: UNID | E49: 0.011 | F49: 38.44 | H49: =F49*E49 -> 0.42284
A50: SINAPI | C50: ADESIVO PLASTICO PARA PVC, FRASCO COM 850 GR | D50: UNID | E50: 0.009 | F50: 44.26 | H50: =F50*E50 -> 0.39834
A51: SINAPI | C51: LIXA D'AGUA EM FOLHA, GRAO 100 | D51: UNID | E51: 0.06 | F51: 1.5 | H51: =F51*E51 -> 0.09
H52: =SUM(H45:H51) -> 5.05314
A54: 5 | C54: BUCHA DE REDUÇÃO, PVC, SOLDÁVEL, DN 25MM X 20MM, INSTALADO EM RAMAL OU SUB-RAMAL DE ÁGUA - FORNECIMENTO E INSTALAÇÃO | D54: UNID | E54: COEF | F54: CUSTO UNIT | H54: CUSTO TOTAL
...

Sheet EQUALIZAÇÕES DE PROPOSTAS
A1: EQUALIZAÇÕES
A2: OBRA : | B2: ='ORCAMENTO BASICO '!B9 -> Creche - Espaço Nosso | E2: ='ORCAMENTO BASICO '!H1 -> 717873
A3: LOCAL : | B3: ='ORCAMENTO BASICO '!B10 -> Sarzedo - MG
A4: PRAZO : | B4: ='ORCAMENTO BASICO '!B11 -> 12 meses
A6: 1 | B6: Revestimento de parede bold 25x35cm Original esmaltado branco Incefra | C6: PROPOSTAS | E6: =SUM(C9:E9)/3 -> 11.53
B7: EMPRESAS | C7: TELHANORTE | D7: CASA E CONSTRUÇÃO | E7: SODIMAC
B8: REFERENCIA | C8: https://www.telhanorte.com.br/revestimento-de-parede-bold-25x35cm-original-esmaltado-branco-incefra-1450395/p?idsku=1450395&gclid=CjwKCAjwiurXBRAnEiwAk2GFZmQ294W03C2hp8S05eVQseEYAKJf0kWNOEm2G6-8ihf8GMAuBkBoAxoC2N8QAvD_BwE | D8: https://www.cec.com.br/pisos-e-revestimentos/revest-para-parede/revestimentos-para-parede-ate-30x60/revestimento-25x35cm-rvi-18000?produto=1232426&utm_content=pisos-e-revestimentos&utm_medium=cpc&utm_campaign=GoogleShop&utm_source=google-shopping&idpublicacao=791d2005-d206-4804-b297-71cab438caf1&gclid=CjwKCAjwiurXBRAnEiwAk2GFZp9mue453GYxkAta0qrhG6pqAHTk1PXIhADg6mxM9KTtdCjWCE6ovRoCkxMQAvD_BwE | E8: http://www.sodimac.com.br/sodimac-br/product/737830/Revestimento-Ref-18000-Caixa-2,19m%C2%B2-25x35cm-Branco-Brilhante/737830
B9: PREÇO UNITÁRIO | C9: 10.7 | D9: 11.99 | E9: 11.9
A12: 2 | B12: COBERTURA EM POLICARBONATO PARA A RAMPA DE ACESSO COM ESTRUTURA - FORNECIMENTO E INSTALAÇÃO | C12: PROPOSTAS | E12: =AVERAGE(C15:E15) -> 18210
B13: EMPRESAS | C13: LINHARES COBERTURAS E FACHADAS | D13: TOLDOS ÁGUA-SOL
B14: REFERENCIA | C14: ORÇAMENTO POR EMAIL | D14: ORÇAMENTO POR EMAIL
B15: PREÇO UNITÁRIO | C15: 21000 | D15: 15420
A18: 3 | B18: COBERTURA EM POLICARBONATO PARA A ÁREA DE SERVIÇO COM ESTRUTURA - FORNECIMENTO E INSTALAÇÃO | C18: PROPOSTAS | E18: =AVERAGE(C21:E21) -> 2724
B19: EMPRESAS | C19: LINHARES COBERTURAS E FACHADAS | D19: TOLDOS ÁGUA-SOL
B20: REFERENCIA | C20: ORÇAMENTO POR EMAIL | D20: ORÇAMENTO POR EMAIL
B21: PREÇO UNITÁRIO | C21: 3099 | D21: 2349
A24: 4 | B24: BANHEIRA RÍGIDA DE EMBUTIR BRANCA | C24: PROPOSTAS | E24: =SUM(C27:E27)/3 -> 46.636667
B25: EMPRESAS | C25: EXTRA | D25: MAGAZINE LUIZA | E25: AMERICANAS
B26: REFERENCIA | C26: https://www.extra.com.br/bebes/BanhodoBebe/BanheirasparaBebe/banheira-rigida-avulsa-burigotto-branca-12545647.html?utm_medium=cpc&utm_source=gp_pla&IdSku=12545647&idLojista=17396&s_kwcid=AL!427!3!94837814427!!!g!428240861732!&utm_campaign=Bebe_Shopping&ef_id=WeeouAAABHjK@x9-:20180525114657:s | D26: https://www.magazineluiza.com.br/banheira-rigida-e-avulsa-burigotto/p/7837101/bb/otbb/?partner_id=16363&utm_source=google&utm_medium=pla&utm_campaign=PLA_marketplace&gclid=Cj0KCQjw6J7YBRC4ARIsAJMXXseHEMR6mbBL4lOuaWaqUbv3xT9xebT4gPtCLrx0-SHACdSjhqu7NegaAir_EALw_wcB | E26: https://www.americanas.com.br/produto/12626870/banheira-plastica-rigida-branca?WT.srch=1&cor=Branco&epar=bp_pl_00_go_bb_todas_geral_gmv&gclid=Cj0KCQjw6J7YBRC4ARIsAJMXXsdT64R-28SW6rzq0Sme6RPNqzZlyzajh7LfdRLgVmCcBCAkw7OehxUaAjaqEALw_wcB&opn=YSMESP&sellerId=26796309000123&tamanho=%C3%9ANICO
B27: PREÇO UNITÁRIO | C27: 48.94 | D27: 45.99 | E27: 44.98
A30: 5 | B30: CAMINHÃO MUNCK | C30: PROPOSTAS | E30: =AVERAGE(C33:E33) -> 106.66667
B31: EMPRESAS | C31: LM GUINDASTES | D31: MG LOCAÇÃO DE MUNCK | E31: BOLBI MOVIMENTAÇÃO DE CARGAS
B32: REFERENCIA | C32: ORÇAMENTO POR TELEFONE | D32: ORÇAMENTO POR TELEFONE | E32: ORÇAMENTO POR TELEFONE
B33: PREÇO UNITÁRIO | C33: 110 | D33: 110 | E33: 100
A36: 6 | B36: PINGADEIRA CHAPÉU PRÉ MOLDADA DE CONCRETO - 20cm | C36: PROPOSTAS | E36: =AVERAGE(C39:E39) -> 12.333333
B37: EMPRESAS | C37: PRÉ MOLDADOS NUNES | D37: PRÉ MOLDADOS SAMPAIO | E37: SÉCULUS PRÉ MOLDADOS
B38: REFERENCIA | C38: ORÇAMENTO POR TELEFONE | D38: ORÇAMENTO POR TELEFONE | E38: ORÇAMENTO POR TELEFONE
B39: PREÇO UNITÁRIO | C39: 12 | D39: 11 | E39: 14
A42: 7
A48: 8
A54: 9
A60: 10
A66: 11
A72: 12
A78: 13
A84: 14
A90: 15
A96: 17
A102: 18
A108: 19
...

Sheet BDI SERVIÇOS
A1: BENEFÍCIOS E DESPESAS INDIRETAS
C3: OBRA : | D3: ='ORCAMENTO BASICO '!B9 -> Creche - Espaço Nosso
C4: LOCAL : | D4: ='ORCAMENTO BASICO '!B10 -> Sarzedo - MG
C5: PRAZO : | D5: ='ORCAMENTO BASICO '!B11 -> 12 meses
E11: Onde:
E12: AC: Taxa de Administração Central
E13: S: Taxa de Seguro
E14: R: Taxa de Riscos
E15: G: Taxa de Garantias
E16: DF: Taxa de Despesas Financeiras
E17: L: Taxa de Lucro/remuneração
E18: I: Taxa de Incidência de Impostos (PIS, COFINS, ISS, CPRB)
A19: PARAMETRO | B19: % | C19: VERIFICAÇÃO | D19: CÁLCULO DO BDI | E19: OBSERVAÇÕES
A20: Administração Central | B20: 0.04 | C20: =IF(B20<0.03,"FORA DO LIMITE",IF(B20>0.055,"FORA DO LIMITE","OK")) -> OK | D20: =((1+B20+B21+B22)*(1+B23)*(1+B24))/(1-(B25+B26+B27))-1 -> 0.24873185 | E20: a) Os percentuais de Impostos a serem adotados devem ser indicados pelo Tomador, conforme legislação vigente. Para o ISS, deverão ser definidos pelo Tomador, através de declaração informativa, conforme legislação tributária municipal, a base de cálculo e, sobre esta, a respectiva alíquota do ISS, que será um percentual entre 2% e 5%. b) As tabelas acima foram construídas considerando a desoneração sobre a folha de pagamento prevista na Lei n° 12.844/2013. Para análise de orçamentos considerando a contribuição previdenciária sobre a receita bruta deverá ser somada a alíquota de 2% no item impostos. c) Para o tipo de obra “Construção de Edifícios” enquadram-se: a construção e reforma de: edifícios, unidades habitacionais, escolas, hospitais, hotéis, restaurantes, armazéns e depósitos, edifícios para uso agropecuário, estações para trens e metropolitanos, estádios esportivos e quadras cobertas, instalações para embarque e desembarque de passageiros (em aeroportos, rodoviárias, portos, etc.), penitenciárias e presídios, a construção de edifícios industriais (fábricas, oficinas, galpões industriais, etc.), conforme classificação 4120-4 do CNAE 2.0. Também enquadram-se pórticos, mirantes e outros edifícios de finalidade turística.
A21: Seguros e Garantias | B21: 0.008 | C21: =IF(B21<0.008,"FORA DO LIMITE",IF(B21>0.01,"FORA DO LIMITE","OK")) -> OK
A22: Riscos | B22: 0.0127 | C22: =IF(B22<0.0097,"FORA DO LIMITE",IF(B22>0.0127,"FORA DO LIMITE","OK")) -> OK
A23: Despesas Financeiras | B23: 0.0123 | C23: =IF(B23<0.0059,"FORA DO LIMITE",IF(B23>0.0139,"FORA DO LIMITE","OK")) -> OK
A24: Lucro | B24: 0.074 | C24: =IF(B24<0.0616,"FORA DO LIMITE",IF(B24>0.0896,"FORA DO LIMITE","OK")) -> OK
A25: Impostos: PIS e COFINS | B25: 0.0365 | C25: =IF(B25<0.0365,"FORA DO LIMITE",IF(B25>0.0365,"FORA DO LIMITE","OK")) -> OK
A26: Impostos: ISS (mun.) | B26: 0.02 | C26: =IF(B26<0.02,"FORA DO LIMITE",IF(B26>0.05,"FORA DO LIMITE","OK")) -> OK
A27: CPRB | B27: 0.02 | C27: OK
A29: Justificativa das escolhas dos valores do BDI:
A30: Administração Central
A31: Seguros e Garantias
A32: Riscos
A33: Despesas Financeiras
A34: Lucro
A35: Impostos: PIS e COFINS
A36: Impostos: ISS (mun.)

Sheet CRONOGRAMA
A1: CRONOGRAMA FÍSICO-FINANCEIRO
A2: ='ORCAMENTO BASICO '!A5:E5 -> PREFEITURA MUNICIPAL DE SARZEDO
A3: Objeto: | D3: ='ORCAMENTO BASICO '!B9 -> Creche - Espaço Nosso
A4: Local: | D4: ='ORCAMENTO BASICO '!B10 -> Sarzedo - MG
A5: Valor da Obra: | D5: ='ORCAMENTO BASICO '!H1 -> 717873
A7: ITEM | D7: DESCRIÇÃO DOS SERVIÇOS | E7: VALOR DOS SERVIÇOS | F7: SERVIÇOS A EXECUTAR - Em %
F8: MÊS 01 | G8: MÊS 02 | H8: MÊS 03 | I8: MÊS 04 | J8: MÊS 05 | K8: MÊS 06 | L8: MÊS 07 | M8: MÊS 08 | N8: MÊS 09 | O8: MÊS 10 | P8: MÊS 11 | Q8: MÊS 12
A9: 1 | D9: ='ORCAMENTO BASICO '!B15 -> ADMINISTRAÇÃO LOCAL | E9: =E10/$D$5 -> 0.067851463 | F9: =$E9 -> 0.067851463
E10: ='ORCAMENTO BASICO '!G28 -> 48708.734 | F10: =$E10 -> 48708.734
A11: 2 | D11: ='ORCAMENTO BASICO '!B29 -> DEMOLIÇÃO E MOVIMENTAÇÃO DE TERRA | E11: =E12/$D$5 -> 0.023526286 | F11: =E11 -> 0.023526286
E12: ='ORCAMENTO BASICO '!G37 -> 16888.885 | F12: =E12 -> 16888.885
A13: 3 | D13: ='ORCAMENTO BASICO '!B38 -> ARQUITETÔNICO | E13: =E14/$D$5 -> 0.57158748 | G13: =$E$13/11 -> 0.051962498 | H13: =$E$13/11 -> 0.051962498 | I13: =$E$13/11 -> 0.051962498 | J13: =$E$13/11 -> 0.051962498 | K13: =$E$13/11 -> 0.051962498 | L13: =$E$13/11 -> 0.051962498 | M13: =$E$13/11 -> 0.051962498 | N13: =$E$13/11 -> 0.051962498 | ... Q13: =$E$13/11 -> 0.051962498
E14: ='ORCAMENTO BASICO '!G98 -> 410327.22 | G14: =$E$14/11 -> 37302.475 | H14: =$E$14/11 -> 37302.475 | I14: =$E$14/11 -> 37302.475 | J14: =$E$14/11 -> 37302.475 | K14: =$E$14/11 -> 37302.475 | L14: =$E$14/11 -> 37302.475 | M14: =$E$14/11 -> 37302.475 | N14: =$E$14/11 -> 37302.475 | ... Q14: =$E$14/11 -> 37302.475
A15: 4 | D15: ='ORCAMENTO BASICO '!B99 -> ELÉTRICO | E15: =E16/$D$5 -> 0.024185859 | O15: =$E15/3 -> 0.0080619529 | P15: =$E15/3 -> 0.0080619529 | Q15: =$E15/3 -> 0.0080619529
E16: ='ORCAMENTO BASICO '!G117 -> 17362.375 | O16: =$E16/3 -> 5787.4583 | P16: =$E16/3 -> 5787.4583 | Q16: =$E16/3 -> 5787.4583
A17: 5 | D17: ='ORCAMENTO BASICO '!B118 -> ESTRUTURAL | E17: =E18/D5 -> 0.21794082 | G17: =$E$17/8 -> 0.027242603 | H17: =$E$17/8 -> 0.027242603 | I17: =$E$17/8 -> 0.027242603 | J17: =$E$17/8 -> 0.027242603 | K17: =$E$17/8 -> 0.027242603 | L17: =$E$17/8 -> 0.027242603 | M17: =$E$17/8 -> 0.027242603 | N17: =$E$17/8 -> 0.027242603
E18: ='ORCAMENTO BASICO '!G202 -> 156453.83 | G18: =$E$18/8 -> 19556.729 | H18: =$E$18/8 -> 19556.729 | I18: =$E$18/8 -> 19556.729 | J18: =$E$18/8 -> 19556.729 | K18: =$E$18/8 -> 19556.729 | L18: =$E$18/8 -> 19556.729 | M18: =$E$18/8 -> 19556.729 | N18: =$E$18/8 -> 19556.729
A19: 6 | D19: ='ORCAMENTO BASICO '!B203 -> ESTRUTURA METÁLICA | E19: =E20/$D$5 -> 0.077087286 | N19: =$E$19/3 -> 0.025695762 | O19: =$E$19/3 -> 0.025695762 | P19: =$E$19/3 -> 0.025695762
E20: ='ORCAMENTO BASICO '!G215 -> 55338.881 | N20: =$E$20/3 -> 18446.294 | O20: =$E$20/3 -> 18446.294 | P20: =$E$20/3 -> 18446.294
A21: 7 | D21: ='ORCAMENTO BASICO '!B216 -> SPCI | E21: =E22/$D$5 -> 0.0033568301 | P21: =$E$21/2 -> 0.0016784151 | Q21: =$E$21/2 -> 0.0016784151
E22: ='ORCAMENTO BASICO '!G225 -> 2409.7777 | P22: =$E$22/2 -> 1204.8889 | Q22: =$E$22/2 -> 1204.8889
A23: 8 | D23: ='ORCAMENTO BASICO '!B226 -> HIDROSSANITÁRIO | E23: =E24/$D$5 -> 0.010541428 | M23: =$E$23/3 -> 0.0035138092 | N23: =$E$23/3 -> 0.0035138092 | O23: =$E$23/3 -> 0.0035138092
E24: ='ORCAMENTO BASICO '!G270 -> 7567.4063 | M24: =$E$24/3 -> 2522.4688 | N24: =$E$24/3 -> 2522.4688 | O24: =$E$24/3 -> 2522.4688
A25: 9 | D25: ='ORCAMENTO BASICO '!B271 -> LIMPEZA DA OBRA | E25: =E26/$D$5 -> 0.0039225466 | Q25: =E25 -> 0.0039225466
E26: ='ORCAMENTO BASICO '!G273 -> 2815.8903 | Q26: =E26 -> 2815.8903
A28: VALOR TOTAL DA OBRA: | E28: =K32 -> 349893.64
A30: TOTAL SIMPLES - R$ | F30: =SUM(F10,F12,F14,F16,F18,F20,F22,F24,F26) -> 65597.619 | G30: =SUM(G10,G12,G14,G16,G18,G20,G22,G24,G26) -> 56859.204 | H30: =SUM(H10,H12,H14,H16,H18,H20,H22,H24,H26) -> 56859.204 | I30: =SUM(I10,I12,I14,I16,I18,I20,I22,I24,I26) -> 56859.204 | J30: =SUM(J10,J12,J14,J16,J18,J20,J22,J24,J26) -> 56859.204 | K30: =SUM(K10,K12,K14,K16,K18,K20,K22,K24,K26) -> 56859.204 | L30: =SUM(L10,L12,L14,L16,L18,L20,L22,L24,L26) -> 56859.204 | M30: =SUM(M10,M12,M14,M16,M18,M20,M22,M24,M26) -> 59381.672 | ... Q30: =SUM(Q10,Q12,Q14,Q16,Q18,Q20,Q22,Q24,Q26) -> 47110.712
A31: TOTAL SIMPLES - % | F31: =SUM(F9,F11,F13,F15,F17,F19,F21,F23,F25) -> 0.091377749 | G31: =SUM(G9,G11,G13,G15,G17,G19,G21,G23,G25) -> 0.079205101 | H31: =SUM(H9,H11,H13,H15,H17,H19,H21,H23,H25) -> 0.079205101 | I31: =SUM(I9,I11,I13,I15,I17,I19,I21,I23,I25) -> 0.079205101 | J31: =SUM(J9,J11,J13,J15,J17,J19,J21,J23,J25) -> 0.079205101 | K31: =SUM(K9,K11,K13,K15,K17,K19,K21,K23,K25) -> 0.079205101 | L31: =SUM(L9,L11,L13,L15,L17,L19,L21,L23,L25) -> 0.079205101 | M31: =SUM(M9,M11,M13,M15,M17,M19,M21,M23,M25) -> 0.08271891 | ... Q31: =SUM(Q9,Q11,Q13,Q15,Q17,Q19,Q21,Q23,Q25) -> 0.065625413
A32: TOTAL ACUMULADO - R$ | F32: =F30 -> 65597.619 | G32: =F32+G30 -> 122456.82 | H32: =G32+H30 -> 179316.03 | I32: =H32+I30 -> 236175.23 | J32: =I32+J30 -> 293034.43 | K32: =J32+K30 -> 349893.64 | L32: =K32+L30 -> 406752.84 | M32: =L32+M30 -> 466134.51 | N32: =M32+N30 -> 543962.48 | ... Q32: =P32+Q30 -> 717873
A33: TOTAL ACUMULADO - % | F33: =F31 -> 0.091377749 | G33: =F33+G31 -> 0.17058285 | H33: =G33+H31 -> 0.24978795 | I33: =H33+I31 -> 0.32899305 | J33: =I33+J31 -> 0.40819815 | K33: =J33+K31 -> 0.48740325 | L33: =K33+L31 -> 0.56660835 | M33: =L33+M31 -> 0.64932726 | N33: =M33+N31 -> 0.75774194 | ... Q33: =P33+Q31 -> 1
