Workbook
Name __xlnm.Print_Area_5: #REF!
Name __xlnm.Print_Titles_4: ([1]Cronograma!$A:$D,[1]Cronograma!$1:$8)
Name EMPRESAS: OFFSET(#REF!,1,0):OFFSET(#REF!,-1,0)
Name INDICES: OFFSET(#REF!,1,0):OFFSET(#REF!,-1,0)
Name NCOTACOES: 1
Name NEMPRESAS: 3
Name NINDICES: 0

Sheet Orçamento Analítico Demolição
E2: PREFEITURA MUNICIPAL DE SARZEDO
E3: SECRETARIA MUNICIPAL DE OBRAS E URBANISMO
B4: OBRA | E4: SUBSTIUIÇÃO DE COBERTURA DA ESCOLA MUNICIPAL ALAÍDE DE OLIVEIRA SALES | F4: REGIÃO DE REFERÊNCIA | J4: CENTRAL/MG
B5: LOCAL | E5: RUA RIO AIMORÉS, Nº 53 - JARDIM PLANALTO | F5: PLANILHAS DE REFERÊNCIA | J5: SETOP AGO/2023 SINAPI SET/2023
B6: PRAZO DE EXECUÇÃO | E6: 90 DIAS
B7: DATA | E7: NOVEMBRO DE 2023 | I7: BDI 1 | J7: 0.2263
B8: PLANILHA ORÇAMENTÁRIA
B9: ITEM | C9: REF. | D9: CÓDIGO | E9: DESCRIÇÃO DOS SERVIÇOS | F9: UNI | G9: QUANT. | H9: VALOR UNI S/ BDI | I9: VALOR UNI C/ BDI | J9: VALOR TOTAL
B10: 1 | E10: ADMINISTRAÇÃO LOCAL
B11: 1.1 | C11: SETOP | D11: ED-28427 | E11: FORNECIMENTO E COLOCAÇÃO DE PLACA DE OBRA EM CHAPA GALVANIZADA #26, ESP. 0,45MM, DIMENSÃO (3X1,5)M, PLOTADA COM ADESIVO VINÍLICO, AFIXADA COM REBITES 4,8X40MM, EM ESTRUTURA METÁLICA DE METALON 20X20MM, ESP. 1,25MM, INCLUSIVE SUPORTE EM EUCALIPTO AUTOCLAVADO PINTADO COM TINTA PVA DUAS (2) DEMÃOS | F11: UNI | G11: 1 | H11: 1396.17 | I11: =H11*(1+J$7) -> 1712.1233 | J11: =G11*I11 -> 1712.1233
B12: 1.2 | C12: SINAPI | D12: 90778 | E12: ENGENHEIRO CIVIL DE OBRA PLENO COM ENCARGOS COMPLEMENTARES | F12: H | G12: 40 | H12: 101.89 | I12: =H12*(1+J$7) -> 124.94771 | J12: =G12*I12 -> 4997.9083
B13: 1.3 | C13: SETOP | D13: ED-21776 | E13: ENCARREGADO GERAL DE OBRAS COM ENCARGOS COMPLEMENTARES | F13: MêS | G13: 3 | H13: 10164.4 | I13: =H13*(1+J$7) -> 12464.604 | J13: =G13*I13 -> 37393.811
B14: 1.4 | C14: SETOP | D14: CO-27473 | E14: PROJETO EXECUTIVO DE ENGRADAMENTO METÁLICO | F14: PR A1 | G14: 2 | H14: 1304.05 | I14: =H14*(1+J$7) -> 1599.1565 | J14: =G14*I14 -> 3198.313
B15: VALOR TOTAL | J15: =SUM(J11:J14) -> 47302.156
B16: 2 | E16: SERVIÇOS PRELIMINARES
B17: 2.1 | C17: SETOP | D17: ED-50137 | E17: MOBILIZAÇÃO E DESMOBILIZAÇÃO DE CONTAINER, INCLUSIVE CARGA, DESCARGA E TRANSPORTE EM CAMINHÃO CARROCERIA COM GUINDAUTO (MUNCK), EXCLUSIVE LOCAÇÃO DO CONTAINER | F17: UNI | G17: 1 | H17: 1568.04 | I17: =H17*(1+J$7) -> 1922.8875 | J17: =G17*I17 -> 1922.8875
B18: 2.2 | C18: SETOP | D18: ED-16348 | E18: LOCAÇÃO DE CONTAINER COM ISOLAMENTO TÉRMICO, TIPO 1, PARA ESCRITÓRIO DE OBRA, COM MEDIDAS REFERENCIAIS DE (6) METROS COMPRIMENTO, (2,3) METROS LARGURA E (2,5) METROS ALTURA ÚTIL INTERNA, INCLUSIVE AR CONDICIONADO E LIGAÇÕES ELÉTRICAS INTERNAS, EXCLUSIVE MOBILIZAÇÃO/ DESMOBILIZAÇÃO E LIGAÇÕES PROVISÓRIAS EXTERNAS | F18: MÊS | G18: 3 | H18: 944.26 | I18: =H18*(1+J$7) -> 1157.946 | J18: =G18*I18 -> 3473.8381
B19: 2.3 | C19: SETOP | D19: ED-50155 | E19: LOCAÇÃO DE BANHEIRO QUÍMICO, DIMENSÃO (110X120X230)CM, LINHA PADRÃO, CONTENDO UMA (1) PIA/HIGIENIZADOR DE MÃOS, INCLUSIVE MANUTENÇÃO E MOBILIZAÇÃO/DESMOBILIZAÇÃO | F19: MÊS | G19: 3 | H19: 836.4 | I19: =H19*(1+J$7) -> 1025.6773 | J19: =G19*I19 -> 3077.032
B20: VALOR TOTAL | J20: =SUM(J17:J19) -> 8473.7575
B21: 3 | E21: SUBSTITUIÇÃO DE TELHADO
B22: 3.1 | C22: SETOP | D22: ED-9075 | E22: FORNECIMENTO DE ANDAIME METÁLICO PARA FACHADA ( LOCAÇÃO), INCLUSIVE PISO METÁLICO E SAPATAS, EXCLUSIVE MONTAGEM E DESMONTAGEM | F22: M2xMês | G22: =5*10*2 -> 100 | H22: 9.82 | I22: =H22*(1+J$7) -> 12.042266 | J22: =G22*I22 -> 1204.2266
B23: 3.2 | C23: SETOP | D23: ED-48514 | E23: REMOÇÃO MANUAL DE TELHA CERÂMICA, COM REAPROVEITAMENTO, INCLUSIVE AFASTAMENTO E EMPILHAMENTO, EXCLUSIVE TRANSPORTE E RETIRADA DO MATERIAL REMOVIDO NÃO REAPROVEITÁVEL | F23: M2 | G23: =861.4-61.62 -> 799.78 | H23: 23.9 | I23: =H23*(1+J$7) -> 29.30857 | J23: =G23*I23 -> 23440.408
B24: 3.3 | C24: SETOP | D24: ED-48457 | E24: REMOÇÃO MANUAL DE ENGRADAMENTO PARA TELHA TIPO CERÂMICA OU CONCRETO, INCLUSIVE AFASTAMENTO E EMPILHAMENTO, EXCLUSIVE TRANSPORTE E RETIRADA DO MATERIAL REMOVIDO NÃO REAPROVEITÁVEL | F24: M2 | G24: =861.4-61.62 -> 799.78 | H24: 22.25 | I24: =H24*(1+J$7) -> 27.285175 | J24: =G24*I24 -> 21822.137
B25: 3.4 | C25: SETOP | D25: ED-48509 | E25: REMOÇÃO MANUAL DE TELHA METÁLICA OU PVC, COM REAPROVEITAMENTO, INCLUSIVE AFASTAMENTO E EMPILHAMENTO, EXCLUSIVE TRANSPORTE E RETIRADA DO MATERIAL REMOVIDO NÃO REAPROVEITÁVEL | F25: M2 | G25: 61.62 | H25: 8.9 | I25: =H25*(1+J$7) -> 10.91407 | J25: =G25*I25 -> 672.52499
B26: 3.5 | C26: SETOP | D26: ED-48243 | E26: CONDUTOR/DUTO DE ENTULHO EM POLIETILENO, INCLUSIVE ACESSÓRIOS DE FIXAÇÃO, SUPORTES, MONTAGEM/ DESMONTAGEM E REMANEJAMENTO | F26: MXMês | G26: =30*1 -> 30 | H26: 45.55 | I26: =H26*(1+J$7) -> 55.857965 | J26: =G26*I26 -> 1675.7389
B27: 3.6 | C27: SETOP | D27: ED-51131 | E27: CARGA MANUAL DE MATERIAL DE QUALQUER NATUREZA SOBRECAMINHÃO, EXCLUSIVE TRANSPORTE | F27: M3 | G27: =(G23*0.015)+(G24*0.1)+(G25*0.005) -> 92.2828 | H27: 39.52 | I27: =H27*(1+J$7) -> 48.463376 | J27: =G27*I27 -> 4472.336
B28: 3.7 | C28: SETOP | D28: ED-51126 | E28: TRANSPORTE DE MATERIAL DEMOLIDO EM CAÇAMBA (MUNICÍPIO: BELO HORIZONTE), EXCLUSIVE CARGA MANUAL OU MECÂNICA | F28: M3 | G28: =(G23*0.015)+(G24*0.1)+(G25*0.005) -> 92.2828 | H28: 60.15 | I28: =H28*(1+J$7) -> 73.761945 | J28: =G28*I28 -> 6806.9588
B29: 3.8 | C29: SETOP | D29: ED-20603 | E29: FORNECIMENTO DE ESTRUTURA METÁLICA E ENGRADAMENTO METÁLICO, EM AÇO, SOBRE LAJE PARA TELHA CERÂMICA, COBERTURA PADRÃO DO PRÉDIO ESCOLAR, EXCLUSIVE TELHA, INCLUSIVE FABRICAÇÃO, TRANSPORTE, MONTAGEM, APLICAÇÃO DE FUNDO PREPARADOR ANTICORROSIVO, UMA (1) DEMÃO E PINTURA ESMALTE, DUAS (2) DEMÃOS | F29: KG | G29: =13.5*(861.4) -> 11628.9 | H29: 24.87 | I29: =H29*(1+J$7) -> 30.498081 | J29: =G29*I29 -> 354659.13
B30: 3.9 | C30: SETOP | D30: ED-48428 | E30: COBERTURA EM TELHA METÁLICA GALVANIZADA TRAPEZOIDAL, TIPO SIMPLES, ESP. 0,50MM, ACABAMENTO NATURAL, INCLUSIVE ACESSÓRIOS PARA FIXAÇÃO, FORNECIMENTO E INSTALAÇÃO | F30: M2 | G30: =(205.7+655.7) -> 861.4 | H30: 102.16 | I30: =H30*(1+J$7) -> 125.27881 | J30: =G30*I30 -> 107915.17
B31: 3.10 | C31: SETOP | D31: ED-48402 | E31: COLOCAÇÃO DE CUMEEIRA GALVANIZADA TRAPEZOIDAL E = 0,50 MM, SIMPLES | F31: M | G31: =39.5+22 -> 61.5 | H31: 56.99 | I31: =H31*(1+J$7) -> 69.886837 | J31: =G31*I31 -> 4298.0405
B32: 3.11 | C32: SETOP | D32: ED-50662 | E32: CALHA EM CHAPA GALVANIZADA, ESP. 0,5MM (GSG-26), COM DESENVOLVIMENTO DE 40CM, INCLUSIVE IÇAMENTO MANUAL VERTICAL | F32: M | G32: =40*2+((25)*2) -> 130 | H32: 55.2 | I32: =H32*(1+J$7) -> 67.69176 | J32: =G32*I32 -> 8799.9288
B33: 3.12 | C33: SETOP | D33: ED-48669 | E33: FORNECIMENTO E ASSENTAMENTO DE TUBO PVC RÍGIDO, DRENAGEM/PLUVIAL, PBV - SÉRIE NORMAL, DN 100 MM (4"), INCLUSIVE CONEXÕES | F33: M | G33: =(80+80+50+50+20) -> 280 | H33: 35.41 | I33: =H33*(1+J$7) -> 43.423283 | J33: =G33*I33 -> 12158.519
B34: 3.13 | C34: SETOP | D34: ED-50668 | E34: CONDUTOR CIRCULAR DE ÁGUA PLUVIAL PARA DO TELHADO EM TUBO DE PVC, DIÂMETRO DE 100MM, INCLUSIVE CONEXÕES E SUPORTES | F34: M | G34: =((8*2)+(4*2))*8 -> 192 | H34: 88.09 | I34: =H34*(1+J$7) -> 108.02477 | J34: =G34*I34 -> 20740.755
B35: 3.14 | C35: SETOP | D35: ED-49910 | E35: CAIXA DE DRENAGEM DE INSPEÇÃO/PASSAGEM EM ALVENARIA (40X40X80CM), REVESTIMENTO EM ARGAMASSA COM ADITIVO IMPERMEABILIZANTE, COM TAMPA EM GRELHA, INCLUSIVE ESCAVAÇÃO, REATERRO E TRANSPORTE E RETIRADA DO MATERIAL ESCAVADO (EM CAÇAMBA) | F35: UNID | G35: 24 | H35: 521.62 | I35: =H35*(1+J$7) -> 639.66261 | J35: =G35*I35 -> 15351.903
B36: 3.15 | C36: SETOP | D36: ED-51107 | E36: ESCAVAÇÃO MANUAL DE VALA COM PROFUNDIDADE MENOR OU IGUAL A 1,5M, INCLUSIVE DESCARGA LATERAL | F36: M3 | G36: =(80+80+50+50+30+20)*0.6*0.3 -> 55.8 | H36: 67.39 | I36: =H36*(1+J$7) -> 82.640357 | J36: =G36*I36 -> 4611.3319
B37: 3.16 | C37: SETOP | D37: ED-51093 | E37: APILOAMENTO MANUAL EM FUNDO DE VALA COM SOQUETE, EXCLUSIVE ESCAVAÇÃO | F37: M2 | G37: =(80+80+50+50+30+20)*0.3 -> 93 | H37: 22.72 | I37: =H37*(1+J$7) -> 27.861536 | J37: =G37*I37 -> 2591.1228
B38: 3.17 | C38: SETOP | D38: ED-50031 | E38: FORNECIMENTO E ASSENTAMENTO DE TUBO PVC RÍGIDO, ESGOTO, PBV - SÉRIE NORMAL, DN 200 MM (8"), INCLUSIVE CONEXÕES | F38: M | G38: 30 | H38: 126.76 | I38: =H38*(1+J$7) -> 155.44579 | J38: =G38*I38 -> 4663.3736
B39: 3.18 | C39: SETOP | D39: ED-49334 | E39: ENVELOPE DE CONCRETO PARA PROTEÇÃO DE TUBOS DE PVC ENTERRADO - CONCRETO TIPO A FCK = 13,5 MPA | F39: M3 | G39: =(((280*0.3*0.12)-(3.14*0.05*0.05*280))+((30*0.3*0.22)-(3.14*0.1*0.1*30))) -> 8.92 | H39: 630.8 | I39: =H39*(1+J$7) -> 773.55004 | J39: =G39*I39 -> 6900.0664
B40: 3.19 | C40: SETOP | D40: ED-51120 | E40: REATERRO MANUAL DE VALA, INCLUSIVE ESPALHAMENTO E COMPACTAÇÃO MANUAL COM SOQUETE | F40: M3 | G40: =G36-G39-(3.14*0.05*0.05*280)-(3.14*0.1*0.1*30) -> 43.74 | H40: 67.39 | I40: =H40*(1+J$7) -> 82.640357 | J40: =G40*I40 -> 3614.6892
B41: 3.20 | C41: SETOP | D41: ED-50685 | E41: RUFO E CONTRA-RUFO EM CHAPA GALVANIZADA, ESP. 0,5MM (GSG-26), COM DESENVOLVIMENTO DE 33CM, INCLUSIVE IÇAMENTO MANUAL VERTICAL | F41: M | G41: =20+14 -> 34 | H41: 50.54 | I41: =H41*(1+J$7) -> 61.977202 | J41: =G41*I41 -> 2107.2249
...

Sheet CFF
A1: CRONOGRAMA FÍSICO-FINANCEIRO
A2: SECRETARIA MUNICIPAL DE OBRAS E URBANISMO
A3: PREFEITURA MUNICIPAL DE SARZEDO | C3: DATA: 23/11/2023 PRAZO DA OBRA: 3 MESES
A4: SERVIÇO: SUBSTITUIÇÃO DA COBERTURA DA ESCOLA MUNICIPAL ALAÍDE DE OLIVEIRA SALES | C4: LOCAL: RUA RIO AIMORÉS, Nº 53 JARDIM PLANALTO
A5: ITEM | B5: ETAPAS / DESCRIÇÃO | C5: FÍSICO/ FINANCEIRO | D5: TOTAL ETAPAS | E5: MÊS 1 | F5: MÊS 2 | G5: MÊS 3
A6: SERVIÇO: ÁREA EXTERNA ESCOLA MASTERVILLE
A7: 1 | B7: ='Orçamento Analítico Demolição'!E10 -> ADMINISTRAÇÃO LOCAL | C7: Físico % | D7: =D8/$D$18 -> 0.067162563 | E7: 0.4 | F7: 0.3 | G7: 0.3
C8: Financeiro | D8: ='Orçamento Analítico Demolição'!J15 -> 47302.156 | E8: =ROUND(E7*$D$8,4) -> 18920.862 | F8: =ROUND(F7*$D$8,4) -> 14190.647 | G8: =ROUND(G7*$D$8,4) -> 14190.647
A9: 2 | B9: ='Orçamento Analítico Demolição'!E16 -> SERVIÇOS PRELIMINARES | C9: Físico % | D9: =D10/$D$18 -> 0.012031572 | E9: 0.37 | F9: 0.26 | G9: 0.37
C10: Financeiro | D10: ='Orçamento Analítico Demolição'!J20 -> 8473.7575 | E10: =E9*$D$10 -> 3135.2903 | F10: =F9*$D$10 -> 2203.177 | G10: =G9*$D$10 -> 3135.2903
A11: 3 | B11: ='Orçamento Analítico Demolição'!E21 -> SUBSTITUIÇÃO DE TELHADO | C11: Físico % | D11: =D12/$D$18 -> 0.88559218 | E11: 0.2 | F11: 0.6 | G11: 0.2
C12: Financeiro | D12: ='Orçamento Analítico Demolição'!J43 -> 623716.81 | E12: =E11*D12 -> 124743.36 | F12: =F11*D12 -> 374230.08 | G12: =G11*D12 -> 124743.36
A13: 4 | B13: ='Orçamento Analítico Demolição'!E44 -> ALVENARIA DE FECHAMENTO DO TELHADO | C13: Físico % | D13: =D14/$D$18 -> 0.013675835 | F13: 0.5 | G13: 0.5
C14: Financeiro | D14: ='Orçamento Analítico Demolição'!J48 -> 9631.8017 | F14: =F13*$D$14 -> 4815.9008 | G14: =G13*$D$14 -> 4815.9008
A15: 6 | B15: ='Orçamento Analítico Demolição'!E49 -> LIMPEZA GERAL DE OBRA | C15: Físico % | D15: =D16/$D$18 -> 0.021537851 | G15: 1
C16: Financeiro | D16: ='Orçamento Analítico Demolição'!J51 -> 15168.968 | G16: =D16*G15 -> 15168.968
A17: TOTAL | C17: Físico % | D17: =D7+D9+D11+D13+D15 -> 1 | E17: =E18/$D$18 -> 0.20843514 | F17: =F18/$D$18 -> 0.5614702 | G17: =G18/$D$18 -> 0.23009465
C18: Financeiro | D18: =D8+D10+D12+D14+D16 -> 704293.49 | E18: =E8+E10+E12+E14+E16 -> 146799.51 | F18: =F8+F10+F12+F14+F16 -> 395439.81 | G18: =G8+G10+G12+G14+G16 -> 162054.17
B22: Allefer Rocha Araujo
B23: Eng. Civil, CREA/MG: 253.417/D

Sheet BDI
A1: BDI | AB1: 1 | AF1: CONSTRUÇÃO DE EDIFÍCIOS | AG1: 0.04 | AH1: 0.008 | AI1: 0.0127 | AJ1: 0.0123 | AK1: 0.074 | AM1: CONSTRUÇÃO DE EDIFÍCIOS | AN1: 0.03 | AO1: 0.008 | AP1: 0.0097 | AQ1: 0.0059 | AR1: 0.0616 | AT1: CONSTRUÇÃO DE EDIFÍCIOS | AU1: 0.055 | AV1: 0.01 | AW1: 0.0127 | AX1: 0.0139 | AY1: 0.0896
A2: CONTRATANTE: | B2: PREFEITURA MUNICIPAL DE SARZEDO - MG | S2: PLANILHA MODELO: | Z2: REV_00 | AF2: CONSTRUÇÃO DE RODOVIAS E FERROVIAS | AG2: 0.0401 | AH2: 0.004 | AI2: 0.0056 | AJ2: 0.0111 | AK2: 0.073 | AM2: CONSTRUÇÃO DE RODOVIAS E FERROVIAS | AN2: 0.038 | AO2: 0.0032 | AP2: 0.005 | AQ2: 0.0102 | AR2: 0.0664 | AT2: CONSTRUÇÃO DE RODOVIAS E FERROVIAS | AU2: 0.0467 | AV2: 0.0074 | AW2: 0.0097 | AX2: 0.0121 | AY2: 0.0869
A3: CONTRATADA: | S3: NÃO DESONERADA | Z3: 45139 | AF3: CONSTRUÇÃO DE REDES DE ABASTECIMENTO DE ÁGUA, COLETA DE ESGOTO E CONSTRUÇÕES CORRELATAS | AG3: 0.0493 | AH3: 0.0049 | AI3: 0.0139 | AJ3: 0.0099 | AK3: 0.0804 | AM3: CONSTRUÇÃO DE REDES DE ABASTECIMENTO DE ÁGUA, COLETA DE ESGOTO E CONSTRUÇÕES CORRELATAS | AN3: 0.0343 | AO3: 0.0028 | AP3: 0.01 | AQ3: 0.0094 | AR3: 0.0674 | AT3: CONSTRUÇÃO DE REDES DE ABASTECIMENTO DE ÁGUA, COLETA DE ESGOTO E CONSTRUÇÕES CORRELATAS | AU3: 0.0671 | AV3: 0.0075 | AW3: 0.0174 | AX3: 0.0117 | AY3: 0.094
A4: PROJETO: | B4: SUBSTITUIÇÃO DA COBERTURA DA ESCOLA MUNICIPAL ALAÍDE DE OLIVEIRA SALES | S4: TERCEIRO QUARTIL | AF4: CONSTRUÇÃO DE MANUNTEÇÃO DE ESTAÇÕES E REDES DE DISTRIBUIÇÃO DE ENERGIA ELÉTRICA | AG4: 0.0592 | AH4: 0.0051 | AI4: 0.0148 | AJ4: 0.0107 | AK4: 0.0831 | AM4: CONSTRUÇÃO DE MANUNTEÇÃO DE ESTAÇÕES E REDES DE DISTRIBUIÇÃO DE ENERGIA ELÉTRICA | AN4: 0.0529 | AO4: 0.0025 | AP4: 0.01 | AQ4: 0.0101 | AR4: 0.08 | AT4: CONSTRUÇÃO DE MANUNTEÇÃO DE ESTAÇÕES E REDES DE DISTRIBUIÇÃO DE ENERGIA ELÉTRICA | AU4: 0.0793 | AV4: 0.0056 | AW4: 0.0197 | AX4: 0.0111 | AY4: 0.0951
A5: CONSTRUÇÃO DE EDIFÍCIOS | AF5: OBRAS PORTUÁRIAS, MARÍTIMAS E FLUVIAIS | AG5: 0.0552 | AH5: 0.0122 | AI5: 0.0232 | AJ5: 0.0102 | AK5: 0.084 | AM5: OBRAS PORTUÁRIAS, MARÍTIMAS E FLUVIAIS | AN5: 0.04 | AO5: 0.0081 | AP5: 0.0146 | AQ5: 0.0094 | AR5: 0.0714 | AT5: OBRAS PORTUÁRIAS, MARÍTIMAS E FLUVIAIS | AU5: 0.0785 | AV5: 0.0199 | AW5: 0.0316 | AX5: 0.0133 | AY5: 0.1043
AF6: CAEMA | AG6: 0.0493 | AH6: 0.0049 | AI6: 0.0139 | AJ6: 0.0099 | AK6: 0.0804 | AM6: CAEMA | AN6: 0.0493 | AO6: 0.0049 | AP6: 0.0139 | AQ6: 0.0099 | AR6: 0.0804 | AT6: CAEMA | AU6: 0.0493 | AV6: 0.0049 | AW6: 0.0139 | AX6: 0.0099 | AY6: 0.0804
A7: AC = | B7: ADMINISTRAÇÃO CENTRAL = | G7: =IF($S$4="QUARTIL MÉDIO",VLOOKUP($A$5,$AF$1:$AK$6,2,0),IF($S$4="PRIMEIRO QUARTIL",VLOOKUP($A$5,$AM$1:$AR$6,2,0),IF($S$4="TERCEIRO QUARTIL",VLOOKUP($A$5,$AT$1:$AY$6,2,0)))) -> 0.055
A8: S + G = | B8: SEGURO + GARANTIAS = | G8: 0.01 | AG8: QUARTIL MÉDIO | AN8: 1 QUARTIL | AU8: 3 QUARTIL
A9: R = | B9: RISCO = | G9: 0.0127 | AG9: ADM | AH9: SG | AI9: RI | AJ9: DF | AK9: LU | AN9: ADM | AO9: SG | AP9: RI | AQ9: DF | AR9: LU | AU9: ADM | AV9: SG | AW9: RI | AX9: DF | AY9: LU
A10: DF = | B10: DESPESAS FINANCEIRAS = | G10: 0.0093
A11: L = | B11: LUCRO = | G11: 0.075
A12: I = | B12: IMPOSTOS = | G12: 0.0465
E13: COFINS | G13: 0.03
E14: PIS | G14: 0.0065
E15: ISS | G15: 0.01
E16: CPRB
B21: BDI = | C21: [ | D21: [( | E21: 1 | F21: + | G21: =G7 -> 0.055 | H21: + | I21: =G8 -> 0.01 | J21: + | K21: =G9 -> 0.0127 | L21: )x | M21: ( | N21: 1 | O21: + | P21: =G10 -> 0.0093 | Q21: )x | R21: ( | S21: 1 | T21: + | U21: =G11 -> 0.075 | V21: )] | W21: ] | X21: -1 | Y21: = | Z21: =ROUND((((E21+G21+I21+K21)*(N21+P21)*(S21+U21))/(N23-P23))-1,4) -> 0.2263
M23: ( | N23: 1 | O23: - | P23: =G12 -> 0.0465 | Q23: )
A25: 1 - FORMULA CONFORME ACORDAO nº 2622/2013 TCU - PLENÁRIO

Sheet Levantamentos
A1: ÁREA DE PISO | G1: COMPRIMENTO DOS RODAPÉS
G4: RODAPÉ - PERÍMETRO
A5: TERREO | F5: TERREO | O5: 1º PAV | R5: TERREO
A6: ? | B6: 15.62 | F6: ? | G6: =(3.55*2)+(4.4*2) -> 15.9
A7: CIRC | B7: 11.02 | F7: CIRC | G7: =(7.25*2)+(1.52*2) -> 17.54 | N7: HORIZONTAL | O7: 13.42 | Q7: HORIZONTAL | R7: 13.42
A8: WC | B8: 2.4 | F8: WC | G8: =(1.6*2)+(1.5*2) -> 6.2 | N8: HORIZONTAL | O8: 13.42 | Q8: HORIZONTAL | R8: 13.42
A9: WC | B9: 2.4 | F9: WC | G9: =(1.6*2)+(1.5*2) -> 6.2 | N9: HORIZONTAL | O9: 13.42 | Q9: HORIZONTAL | R9: 13.42
A10: SALA DOS PROFESSORES | B10: 20.4 | F10: SALA DOS PROFESSORES | G10: =(3.4*2)+(6*2) -> 18.8 | N10: HORIZONTAL | O10: 13.42 | Q10: HORIZONTAL | R10: 13.42
A11: RECEPÇÃO | B11: 14.57 | F11: RECEPÇÃO | G11: =(3.35*2)+(4.35*2) -> 15.4 | N11: HORIZONTAL | O11: 13.42 | Q11: HORIZONTAL | R11: 13.42
A12: ?? | B12: 15.62 | F12: ?? | G12: =(4.4*2)+(3.55*2) -> 15.9 | N12: HORIZONTAL | O12: 13.42 | Q12: HORIZONTAL | R12: 13.42
A13: DIRETORIA | B13: =3.4*6.07 -> 20.638 | F13: DIRETORIA | G13: =(3.4*2)+(6.07*2) -> 18.94 | N13: HORIZONTAL | O13: 5.97 | Q13: HORIZONTAL | R13: 13.42
A14: CIRC | B14: =2*3.4 -> 6.8 | F14: CIRC | G14: =(3.4*2)+(2*2) -> 10.8 | N14: HORIZONTAL | O14: 7.77
A15: REFEITÓRIO | B15: 207.47 | F15: REFEITÓRIO | G15: =(9.77*2)+(18*2)+(5.4*2) -> 66.34 | N15: HORIZONTAL | O15: 7.77
A16: COZINHA | B16: =4.2*6.07 -> 25.494 | F16: COZINHA | G16: =(4.2*2)+(6.07*2) -> 20.54 | N16: HORIZONTAL | O16: 5.97
A17: GAS | B17: 1.62 | F17: GAS | G17: =(1.35*2)+1.2 -> 3.9 | N17: VERTICAL | O17: 36.6
A18: A.S | B18: 1.8 | F18: A.S | G18: =(1.35*2)+(1.5*2) -> 5.7 | N18: VERTICAL | O18: 36.6
A19: CIRC | B19: 2.85 | F19: CIRC | G19: =(2.85*2)*(1*2) -> 11.4 | N19: VERTICAL | O19: 36.6
A20: DEPOSITO | B20: 9.97 | F20: DEPOSITO | G20: =(3.5*2)+(2.85*2) -> 12.7 | N20: VERTICAL | O20: 36.6
A21: PNE | B21: 3.9 | F21: PNE | G21: =(1.85*2)+(2*2) -> 7.7
A22: CIRC | B22: 4.93 | F22: CIRC | G22: =(1.85*2)+(2.67*2) -> 9.04
A23: PNE | B23: 3.9 | F23: PNE | G23: =(1.85*2)+(2*2) -> 7.7
A24: BANHEIRO | B24: 13.6 | F24: BANHEIRO | G24: =(3.4*2)+(4*2) -> 14.8
A25: BANHEIRO | B25: 13.68 | F25: BANHEIRO | G25: =(3.4*2)+(4*2) -> 14.8
A26: ESCADA | B26: =(0.17+0.3)*1.56*19 -> 13.9308 | F26: ESCADA | G26: =(0.17+0.3)*19*2 -> 17.86
A27: RAMPA | B27: =1.5*2*18 -> 54 | F27: RAMPA | G27: =(20.04*4)+3 -> 83.16
A29: ANEXO | F29: ANEXO
A30: SALA | B30: 45 | F30: SALA | G30: =(7.5*2)+(6*2) -> 27
A31: CIRCULAÇÃO | B31: 48.83 | F31: CIRCULAÇÃO | G31: =(5.95*2)+(6*2) -> 23.9
A32: ROBÓTICA | B32: 45 | F32: ROBÓTICA | G32: =(7.5*2)+(6*2) -> 27
A33: ESCADA | B33: =(0.16+0.28)*1.56*19 -> 13.0416 | F33: ESCADA | G33: =(0.17+0.3)*19*2 -> 17.86
A35: 1º PAVIMENTO | F35: 1º PAVIMENTO
A36: ANEXO | F36: ANEXO
A37: SALA | B37: 45 | F37: SALA | G37: =(7.5*2)+(6*2) -> 27
A38: CIRCULAÇÃO | B38: 48.83 | F38: CIRCULAÇÃO | G38: =(5.95*2)+(6*2) -> 23.9
A39: ROBÓTICA | B39: 45 | F39: ROBÓTICA | G39: =(7.5*2)+(6*2) -> 27
A40: ESCADA | B40: =(0.16+0.28)*1.56*19 -> 13.0416 | F40: ESCADA | G40: =(0.17+0.3)*19*2 -> 17.86
A42: 1º PAVIMENTO | F42: 1º PAVIMENTO
A43: SALA 1 | B43: 42.08 | F43: SALA 1 | G43: =(5.97*2)+(7.05*2) -> 26.04
A44: SALA 2 | B44: 42 | F44: SALA 2 | G44: =(7*2)+(6*2) -> 26
A45: SALA 3 | B45: 42.68 | F45: SALA 3 | G45: =(5.97*2)+(7.05*2) -> 26.04
...

Sheet Orçamento Analítico
E2: PREFEITURA MUNICIPAL DE SARZEDO
E3: SECRETARIA MUNICIPAL DE OBRAS E URBANISMO
B4: OBRA | E4: REFORMA E AMPLIAÇÃO DA ESCOLA ALAÍDE DE OLIVEIRA SALES | F4: REGIÃO DE REFERÊNCIA | J4: CENTRAL/MG
B5: LOCAL | E5: RUA RIO AIMORÉS, Nº 53 - JARDIM PLANALTO | F5: PLANILHAS DE REFERÊNCIA
B6: PRAZO DE EXECUÇÃO | E6: 60 DIAS
B7: DATA | E7: OUTUBRO DE 2023 | I7: BDI 1 | J7: 0.2875
B8: PLANILHA ORÇAMENTÁRIA
B9: ITEM | C9: REF. | D9: CÓDIGO | E9: DESCRIÇÃO DOS SERVIÇOS | F9: UNI | G9: QUANT. | H9: VALOR UNI S/ BDI | I9: VALOR UNI C/ BDI | J9: VALOR TOTAL
B10: 1 | E10: ADMINISTRAÇÃO LOCAL
C11: SINAPI | D11: 90778 | E11: ENGENHEIRO CIVIL DE OBRA PLENO COM ENCARGOS COMPLEMENTARES | F11: H | G11: 40 | H11: 101.89 | I11: =H11*(1+J$7) -> 131.18338 | J11: =G11*I11 -> 5247.335
C12: SETOP | D12: ED-21776 | E12: ENCARREGADO GERAL DE OBRAS COM ENCARGOS COMPLEMENTARES | F12: MêS | G12: 3 | H12: 7684.11 | I12: =H12*(1+J$7) -> 9893.2916 | J12: =G12*I12 -> 29679.875
C13: SETOP | D13: CO-27473 | E13: PROJETO EXECUTIVO DE ENGRADAMENTO METÁLICO | F13: PR A1 | G13: 2 | H13: 1289.1 | I13: =H13*(1+J$7) -> 1659.7162 | J13: =G13*I13 -> 3319.4325
B14: VALOR TOTAL | I14: =SUM(J11:J13) -> 38246.642
B15: 2 | E15: SERVIÇOS PRELIMINARES
C16: SETOP | D16: ED-50137 | E16: MOBILIZAÇÃO E DESMOBILIZAÇÃO DE CONTAINER, INCLUSIVE CARGA, DESCARGA E TRANSPORTE EM CAMINHÃO CARROCERIA COM GUINDAUTO (MUNCK), EXCLUSIVE LOCAÇÃO DO CONTAINER | F16: UNI | G16: 1 | H16: 1431.98 | I16: =H16*(1+J$7) -> 1843.6743 | J16: =G16*I16 -> 1843.6743
C17: SETOP | D17: ED-16348 | E17: LOCAÇÃO DE CONTAINER COM ISOLAMENTO TÉRMICO, TIPO 1, PARA ESCRITÓRIO DE OBRA, COM MEDIDAS REFERENCIAIS DE (6) METROS COMPRIMENTO, (2,3) METROS LARGURA E (2,5) METROS ALTURA ÚTIL INTERNA, INCLUSIVE AR CONDICIONADO E LIGAÇÕES ELÉTRICAS INTERNAS, EXCLUSIVE MOBILIZAÇÃO/ DESMOBILIZAÇÃO E LIGAÇÕES PROVISÓRIAS EXTERNAS | F17: MÊS | G17: 2 | H17: 869.66 | I17: =H17*(1+J$7) -> 1119.6872 | J17: =G17*I17 -> 2239.3745
C18: SETOP | D18: ED-50155 | E18: LOCAÇÃO DE BANHEIRO QUÍMICO, DIMENSÃO (110X120X230)CM, LINHA PADRÃO, CONTENDO UMA (1) PIA/HIGIENIZADOR DE MÃOS, INCLUSIVE MANUTENÇÃO E MOBILIZAÇÃO/DESMOBILIZAÇÃO | F18: MÊS | G18: 2 | H18: 836.4 | I18: =H18*(1+J$7) -> 1076.865 | J18: =G18*I18 -> 2153.73
B19: VALOR TOTAL | I19: =SUM(J16:J18) -> 6236.7787
B20: 3 | E20: SUBSTITUIÇÃO DE TELHADO
B21: 3.1 | C21: SETOP | D21: ED-9075 | E21: FORNECIMENTO DE ANDAIME METÁLICO PARA FACHADA ( LOCAÇÃO), INCLUSIVE PISO METÁLICO E SAPATAS, EXCLUSIVE MONTAGEM E DESMONTAGEM | F21: M2xMês | G21: =5*10*2 -> 100 | H21: 6.66 | I21: =H21*(1+J$7) -> 8.57475 | J21: =G21*I21 -> 857.475
B22: 3.2 | C22: SETOP | D22: ED-48514 | E22: REMOÇÃO MANUAL DE TELHA CERÂMICA, COM REAPROVEITAMENTO, INCLUSIVE AFASTAMENTO E EMPILHAMENTO, EXCLUSIVE TRANSPORTE E RETIRADA DO MATERIAL REMOVIDO NÃO REAPROVEITÁVEL | F22: M2 | G22: =861.4-61.62 -> 799.78 | H22: 21.41 | I22: =H22*(1+J$7) -> 27.565375 | J22: =G22*I22 -> 22046.236
B23: 3.3 | C23: SETOP | D23: ED-48457 | E23: REMOÇÃO MANUAL DE ENGRADAMENTO PARA TELHA TIPO CERÂMICA OU CONCRETO, INCLUSIVE AFASTAMENTO E EMPILHAMENTO, EXCLUSIVE TRANSPORTE E RETIRADA DO MATERIAL REMOVIDO NÃO REAPROVEITÁVEL | F23: M2 | G23: =861.4-61.62 -> 799.78 | H23: 19.86 | I23: =H23*(1+J$7) -> 25.56975 | J23: =G23*I23 -> 20450.175
B24: 3.4 | C24: SETOP | D24: ED-48509 | E24: REMOÇÃO MANUAL DE TELHA METÁLICA OU PVC, COM REAPROVEITAMENTO, INCLUSIVE AFASTAMENTO E EMPILHAMENTO, EXCLUSIVE TRANSPORTE E RETIRADA DO MATERIAL REMOVIDO NÃO REAPROVEITÁVEL | F24: M2 | G24: 61.62 | H24: 7.94 | I24: =H24*(1+J$7) -> 10.22275 | J24: =G24*I24 -> 629.92586
B25: 3.5 | C25: SETOP | D25: ED-48243 | E25: CONDUTOR/DUTO DE ENTULHO EM POLIETILENO, INCLUSIVE ACESSÓRIOS DE FIXAÇÃO, SUPORTES, MONTAGEM/ DESMONTAGEM E REMANEJAMENTO | F25: MXMês | G25: =30*1 -> 30 | H25: 45.13 | I25: =H25*(1+J$7) -> 58.104875 | J25: =G25*I25 -> 1743.1463
B26: 3.6 | C26: SETOP | D26: ED-51131 | E26: CARGA MANUAL DE MATERIAL DE QUALQUER NATUREZA SOBRECAMINHÃO, EXCLUSIVE TRANSPORTE | F26: M3 | G26: =(G22*0.015)+(G23*0.1)+(G24*0.005) -> 92.2828 | H26: 35.54 | I26: =H26*(1+J$7) -> 45.75775 | J26: =G26*I26 -> 4222.6533
B27: 3.7 | C27: SETOP | D27: ED-51126 | E27: TRANSPORTE DE MATERIAL DEMOLIDO EM CAÇAMBA (MUNICÍPIO: BELO HORIZONTE), EXCLUSIVE CARGA MANUAL OU MECÂNICA | F27: M3 | G27: =(G22*0.015)+(G23*0.1)+(G24*0.005) -> 92.2828 | H27: 50 | I27: =H27*(1+J$7) -> 64.375 | J27: =G27*I27 -> 5940.7053
B28: 3.8 | C28: SETOP | D28: ED-20603 | E28: FORNECIMENTO DE ESTRUTURA METÁLICA E ENGRADAMENTO METÁLICO, EM AÇO, SOBRE LAJE PARA TELHA CERÂMICA, COBERTURA PADRÃO DO PRÉDIO ESCOLAR, EXCLUSIVE TELHA, INCLUSIVE FABRICAÇÃO, TRANSPORTE, MONTAGEM, APLICAÇÃO DE FUNDO PREPARADOR ANTICORROSIVO, UMA (1) DEMÃO E PINTURA ESMALTE, DUAS (2) DEMÃOS | F28: KG | G28: =13.5*(861.4) -> 11628.9 | H28: 22.92 | I28: =H28*(1+J$7) -> 29.5095 | J28: =G28*I28 -> 343163.02
B29: 3.9 | C29: SETOP | D29: ED-48429 | E29: COBERTURA EM TELHA METÁLICA GALVANIZADA TRAPEZOIDAL, TIPO DUPLA TERMOACÚSTICA COM DUAS FACES TRAPEZOIDAIS, ESP. 0,43MM, PREENCHIMENTO EM POLIESTIRENO EXPANDIDO/ ISOPOR COM ESP. 30MM, ACABAMENTO NATURAL, INCLUSIVE ACESSÓRIOS PARA FIXAÇÃO, FORNECIMENTO E INSTALAÇÃO | F29: M2 | G29: =(205.7+655.7) -> 861.4 | H29: 234.37 | I29: =H29*(1+J$7) -> 301.75138 | J29: =G29*I29 -> 259928.63
B30: 3.10 | C30: SETOP | D30: ED-48402 | E30: COLOCAÇÃO DE CUMEEIRA GALVANIZADA TRAPEZOIDAL E = 0,50 MM, SIMPLES | F30: M | G30: =39.5+22 -> 61.5 | H30: 55.95 | I30: =H30*(1+J$7) -> 72.035625 | J30: =G30*I30 -> 4430.1909
B31: 3.11 | C31: SETOP | D31: ED-50662 | E31: CALHA EM CHAPA GALVANIZADA, ESP. 0,5MM (GSG-26), COM DESENVOLVIMENTO DE 40CM, INCLUSIVE IÇAMENTO MANUAL VERTICAL | F31: M | G31: =40*2+((25)*2) -> 130 | H31: 53.58 | I31: =H31*(1+J$7) -> 68.98425 | J31: =G31*I31 -> 8967.9525
B32: 3.12 | C32: SETOP | D32: ED-48669 | E32: FORNECIMENTO E ASSENTAMENTO DE TUBO PVC RÍGIDO, DRENAGEM/PLUVIAL, PBV - SÉRIE NORMAL, DN 100 MM (4"), INCLUSIVE CONEXÕES | F32: M | G32: =((((8*2)+(4*2))*8))+(80+80+50+50+20) -> 472 | H32: 33.58 | I32: =H32*(1+J$7) -> 43.23425 | J32: =G32*I32 -> 20406.566
B33: 3.13 | C33: SETOP | D33: ED-49910 | E33: CAIXA DE DRENAGEM DE INSPEÇÃO/PASSAGEM EM ALVENARIA (40X40X80CM), REVESTIMENTO EM ARGAMASSA COM ADITIVO IMPERMEABILIZANTE, COM TAMPA EM GRELHA, INCLUSIVE ESCAVAÇÃO, REATERRO E TRANSPORTE E RETIRADA DO MATERIAL ESCAVADO (EM CAÇAMBA) | F33: UNID | G33: 24 | H33: 473.3 | I33: =H33*(1+J$7) -> 609.37375 | J33: =G33*I33 -> 14624.97
C34: SETOP | D34: ED-51107 | E34: ESCAVAÇÃO MANUAL DE VALA COM PROFUNDIDADE MENOR OU IGUAL A 1,5M, INCLUSIVE DESCARGA LATERAL | F34: M3 | G34: =(80+80+50+50+30+20)*0.6*0.3 -> 55.8 | H34: 60.61 | I34: =H34*(1+J$7) -> 78.035375 | J34: =G34*I34 -> 4354.3739
C35: SETOP | D35: ED-51093 | E35: APILOAMENTO MANUAL EM FUNDO DE VALA COM SOQUETE, EXCLUSIVE ESCAVAÇÃO | F35: M2 | G35: =(80+80+50+50+30+20)*0.3 -> 93 | H35: 20.43 | I35: =H35*(1+J$7) -> 26.303625 | J35: =G35*I35 -> 2446.2371
C36: SETOP | D36: ED-50031 | E36: FORNECIMENTO E ASSENTAMENTO DE TUBO PVC RÍGIDO, ESGOTO, PBV - SÉRIE NORMAL, DN 200 MM (8"), INCLUSIVE CONEXÕES | F36: M | G36: 30 | H36: 124.92 | I36: =H36*(1+J$7) -> 160.8345 | J36: =G36*I36 -> 4825.035
C37: SETOP | D37: ED-49334 | E37: ENVELOPE DE CONCRETO PARA PROTEÇÃO DE TUBOS DE PVC ENTERRADO - CONCRETO TIPO A FCK = 13,5 MPA | F37: M3 | G37: =(((280*0.3*0.12)-(3.14*0.05*0.05*280))+((30*0.3*0.22)-(3.14*0.1*0.1*30))) -> 8.92 | H37: 603.58 | I37: =H37*(1+J$7) -> 777.10925 | J37: =G37*I37 -> 6931.8145
C38: SETOP | D38: ED-51120 | E38: REATERRO MANUAL DE VALA, INCLUSIVE ESPALHAMENTO E COMPACTAÇÃO MANUAL COM SOQUETE | F38: M3 | G38: =G34-G37-(3.14*0.05*0.05*280)-(3.14*0.1*0.1*30) -> 43.74 | H38: 60.61 | I38: =H38*(1+J$7) -> 78.035375 | J38: =G38*I38 -> 3413.2673
B39: 3.13 | C39: SETOP | D39: ED-50685 | E39: RUFO E CONTRA-RUFO EM CHAPA GALVANIZADA, ESP. 0,5MM (GSG-26), COM DESENVOLVIMENTO DE 33CM, INCLUSIVE IÇAMENTO MANUAL VERTICAL | F39: M | G39: =20+14 -> 34 | H39: 44.03 | I39: =H39*(1+J$7) -> 56.688625 | J39: =G39*I39 -> 1927.4133
B40: 3.13 | C40: SETOP | D40: ED-48433 | E40: COLOCAÇÃO DE VEDA ONDA EM POLIETILENO PARA TELHA ONDULADA | F40: M2 | G40: =40*2+((25)*2) -> 130 | H40: 14.72 | I40: =H40*(1+J$7) -> 18.952 | J40: =G40*I40 -> 2463.76
B41: VALOR TOTAL | I41: =SUM(J21:J40) -> 733773.56
...
