Workbook

Sheet Plan1
C1: PREFEITURA MUNICIPAL DE SARZEDO | D1: RUA ELOY CÂNDIDO DE MELO, Nº 477 CENTRO - CEP: 32.450-000 - SARZEDO/MG
A2: PLANILHA DE REGULARIZAÇÃO DE PASSEIOS
A3: LOCAL: RUAS DO BAIRRO RESIDENCIAL MASTERVILLE E BAIRRO IMACULADA CONCEIÇÃO | G3: BDI = | H3: 0.2156
A4: PRAZO DE EXECUÇÃO: 60 DIAS | E4: N. E ==> JUNHO 2022 | H4: =1.2156 -> 1.2156
A5: ITEM | B5: CÓDIGO | C5: DESCRIÇÃO DOS SERVIÇOS | D5: QUANTIDADE | E5: UNIDADE | F5: PREÇO UNITÁRIO - (R$) | G5: PREÇO UNITÁRIO COM BDI - (R$) | H5: PREÇO TOTAL COM BDI - (R$)
A7: RUA-ALAMEDA DAS GAIVOTAS - BAIRRO RESIDENCIAL MASTERVILLE
A8: 1 | C8: REGULARIZAÇÃO, COMPACTAÇÃO DE SOLO E PASSEIO DE CONCRETO | H8: =H9+H10+H11 -> 10604.019
A9: 1 | B9: ED-51147 | C9: LANÇAMENTO E ESPALHAMENTO DE SOLO EM ÁREA DE PASSEIO EXCLUSIVE APILOAMENTO | D9: =60*2*0.2 -> 24 | E9: M³ | F9: 20.72 | G9: =F9*1.2156 -> 25.187232 | H9: =D9*G9 -> 604.49357
A10: 1.1 | B10: ED-51123 | C10: REGULARIZAÇÃO E COMPACTAÇÃO DE TERRENO COM PLACA VIBRATÓRIA | D10: =60*2 -> 120 | E10: M² | F10: 4.43 | G10: =F10*1.2156 -> 5.385108 | H10: =D10*G10 -> 646.21296
A11: 1.2 | B11: ED-51144 | C11: PASSEIOS DE CONCRETO E = 10 CM, FCK = 15 MPA PADRÃO PREFEITURA | D11: =60*2 -> 120 | E11: M² | F11: =64.12 -> 64.12 | G11: =F11*1.2156 -> 77.944272 | H11: =D11*G11 -> 9353.3126
C12: URBANIZAÇÃO
A13: 2 | C13: MEIO-FIO | H13: =H14 -> 7720.2756
A14: 2.1 | B14: ED-51141 | C14: GUIA DE MEIO-FIO, EM CONCRETO COM FCK 15MPA, MOLDADA IN_x0002_LOCO, SEÇÃO 25X45CM, FORMA EM MADEIRA, EXCLUSIVE SARJETA, INCLUSIVE ESCAVAÇÃO, APILOAMENTO E TRANSPORTE COM RETIRADA DO MATERIAL ESCAVADO (EM CAÇAMBA) | D14: =60 -> 60 | E14: M | F14: 105.85 | G14: =F14*1.2156 -> 128.67126 | H14: =D14*G14 -> 7720.2756
A15: 3 | C15: RIP- RAP | H15: =H16 -> 18598.68
A16: 3.1 | B16: RO-40233 | C16: MURO DE ARRIMO EM RIP-RAP, COM ENCHIEMENTODE AREIA E CIMENTO. TRAÇO - 1:10 (EXECUÇÃO, INCLUINDO FORNECIMENTO E TRANSPORTE DE TODOS OS MATERIAIS), NAS DIMENSÕES: 60,00 X 1,00 x 1,00 M | D16: =60*1*1 -> 60 | E16: M³ | F16: 255 | G16: =F16*1.2156 -> 309.978 | H16: =D16*G16 -> 18598.68
D17: VALOR DOS SERVIÇOS | H17: =H8+H13+H15 -> 36922.975
A19: RUA-SANTO ANDRÉ - BAIRRO IMACULADA CONCEIÇÃO
C20: TERRAPLENAGEM / TRABALHOS EM TERRA
A21: 4 | C21: REGULARIZAÇÃO, COMPACTAÇÃO DE SOLO E PASSEIO DE CONCRETO | H21: =H22+H23+H24 -> 10604.019
A22: 4.1 | B22: ED-51147 | C22: LANÇAMENTO E ESPALHAMENTO DE SOLO EM ÁREA DE PASSEIO EXCLUSIVE APILOAMENTO | D22: =60*2*0.2 -> 24 | E22: M³ | F22: 20.72 | G22: =F22*1.2156 -> 25.187232 | H22: =D22*G22 -> 604.49357
A23: 4.2 | B23: ED-51123 | C23: REGULARIZAÇÃO E COMPACTAÇÃO DE TERRENO COM PLACA VIBRATÓRIA | D23: =60*2 -> 120 | E23: M² | F23: 4.43 | G23: =F23*1.2156 -> 5.385108 | H23: =D23*G23 -> 646.21296
A24: 4.3 | B24: ED-51144 | C24: PASSEIOS DE CONCRETO E = 10 CM, FCK = 15 MPA PADRÃO PREFEITURA | D24: =60*2 -> 120 | E24: M² | F24: =64.12 -> 64.12 | G24: =F24*1.2156 -> 77.944272 | H24: =D24*G24 -> 9353.3126
C25: URBANIZAÇÃO | G25: =F25*1.2156 -> 0
A26: 5 | C26: MEIO-FIO | G26: =F26*1.2156 -> 0 | H26: =H27+H28 -> 7543.7705
A27: 5.1 | B27: ED-51142 | C27: REMOÇÃO E REASSENTAMENTO DE MEIO-FIO PRÉ-MOLDADO DE CONCRETO COM REAPROVEITAMENTO | D27: =60 -> 60 | E27: M | F27: 35.09 | G27: =F27*1.2156 -> 42.655404 | H27: =D27*G27 -> 2559.3242
A28: 5.2 | B28: ED-51140 | C28: GUIA DE MEIO-FIO, EM CONCRETO COM FCK 20MPA, PRÉ_x0002_MOLDADA, MFC-03 PADRÃO DER-MG, DIMENSÕES (12X18X45)CM, EXCLUSIVE SARJETA, INCLUSIVE ESCAVAÇÃO, APILOAMENTO E TRANSPORTE COM RETIRADA DO MATERIAL ESCAVADO (EM CAÇAMBA) | D28: =60 -> 60 | E28: M | F28: =68.34 -> 68.34 | G28: =F28*1.2156 -> 83.074104 | H28: =D28*G28 -> 4984.4462
D29: VALOR DOS SERVIÇOS | H29: =H21+H26 -> 18147.79
A31: RUA-ALAMEDA DAS AMENDOEIRAS - BAIRRO RESIDENCIAL MASTERVILLE
C32: TERRAPLENAGEM / TRABALHOS EM TERRA
A33: 6 | C33: REGULARIZAÇÃO, COMPACTAÇÃO DE SOLO E PASSEIO DE CONCRETO | H33: =H34+H35+H36 -> 12688.53
A34: 6.1 | B34: ED-51147 | C34: LANÇAMENTO E ESPALHAMENTO DE SOLO EM ÁREA DE PASSEIO EXCLUSIVE APILOAMENTO | D34: =80*4*0.2 -> 64 | E34: M³ | F34: 20.72 | G34: =F34*1.2156 -> 25.187232 | H34: =G34*D34 -> 1611.9828
A35: 6.2 | B35: ED-51123 | C35: REGULARIZAÇÃO E COMPACTAÇÃO DE TERRENO COM PLACA VIBRATÓRIA | D35: =80*4 -> 320 | E35: M² | F35: 4.43 | G35: =F35*1.2156 -> 5.385108 | H35: =G35*D35 -> 1723.2346
A36: 6.3 | B36: ED-51144 | C36: PASSEIOS DE CONCRETO E = 10 CM, FCK = 15 MPA PADRÃO PREFEITURA | D36: =80*1.5 -> 120 | E36: M² | F36: =64.12 -> 64.12 | G36: =F36*1.2156 -> 77.944272 | H36: =G36*D36 -> 9353.3126
C37: URBANIZAÇÃO
A38: 7 | C38: MEIO-FIO
A39: 7.1 | B39: ED-51140 | C39: GUIA DE MEIO-FIO, EM CONCRETO COM FCK 20MPA, PRÉ_x0002_MOLDADA, MFC-03 PADRÃO DER-MG, DIMENSÕES (12X18X45)CM, EXCLUSIVE SARJETA, INCLUSIVE ESCAVAÇÃO, APILOAMENTO E TRANSPORTE COM RETIRADA DO MATERIAL ESCAVADO (EM CAÇAMBA) | D39: =80 -> 80 | E39: M | F39: =68.34 -> 68.34 | G39: =F39*1.2156 -> 83.074104 | H39: =G39*D39 -> 6645.9283
D41: VALOR DOS SERVIÇOS | H41: =H33+H39 -> 19334.458
A43: RUA-MANUEL PINHEIRO - BAIRRO IMACULADA CONCEIÇÃO
C44: TERRAPLENAGEM / TRABALHOS EM TERRA
A45: 8 | C45: REGULARIZAÇÃO, COMPACTAÇÃO DE SOLO E PASSEIO DE CONCRETO | H45: =H46+H47+H48 -> 8265.691
A46: 8.1 | B46: ED-51147 | C46: LANÇAMENTO E ESPALHAMENTO DE SOLO EM ÁREA DE PASSEIO EXCLUSIVE APILOAMENTO | D46: =60*2*0.2 -> 24 | E46: M³ | F46: 20.72 | G46: =F46*1.2156 -> 25.187232 | H46: =D46*G46 -> 604.49357
A47: 8.2 | B47: ED-51123 | C47: REGULARIZAÇÃO E COMPACTAÇÃO DE TERRENO COM PLACA VIBRATÓRIA | D47: =60*2 -> 120 | E47: M² | F47: 4.43 | G47: =F47*1.2156 -> 5.385108 | H47: =D47*G47 -> 646.21296
A48: 8.3 | B48: ED-51144 | C48: PASSEIOS DE CONCRETO E = 10 CM, FCK = 15 MPA PADRÃO PREFEITURA | D48: =60*1.5 -> 90 | E48: M² | F48: =64.12 -> 64.12 | G48: =F48*1.2156 -> 77.944272 | H48: =D48*G48 -> 7014.9845
C49: URBANIZAÇÃO
A50: 9 | C50: MEIO-FIO | H50: =H51 -> 4984.4462
A51: 9.1 | B51: ED-51140 | C51: GUIA DE MEIO-FIO, EM CONCRETO COM FCK 20MPA, PRÉ_x0002_MOLDADA, MFC-03 PADRÃO DER-MG, DIMENSÕES (12X18X45)CM, EXCLUSIVE SARJETA, INCLUSIVE ESCAVAÇÃO, APILOAMENTO E TRANSPORTE COM RETIRADA DO MATERIAL ESCAVADO (EM CAÇAMBA) | D51: =60 -> 60 | E51: M | F51: =68.34 -> 68.34 | G51: =F51*1.2156 -> 83.074104 | H51: =D51*G51 -> 4984.4462
A52: 10 | C52: SARJETA | H52: =H53 -> 4921.7213
A53: 10.1 | B53: RO-40650 | C53: SARJETA DE CONCRETO EM CORTE TIPO DR.SCC-x/y. LARGURA = 60,00 CM TIPO 50/15 (EXECUÇÃO, INCLUINDO ESCAVAÇÃO, FORNECIMENTO E TRANSPORTE DE TODOS OS MATERIAIS) | D53: =80 -> 80 | E53: M | F53: 50.61 | G53: =F53*1.2156 -> 61.521516 | H53: =D53*G53 -> 4921.7213
D54: VALOR DOS SERVIÇOS | H54: =H45+H50+H52 -> 18171.859
D56: VALOR TOTAL DOS SERVIÇOS | H56: =H17+H29+H41+H54 -> 92577.081
C61: SECRETARIO DE OBRAS E URBANISMO VALTER EDIRALDO DE OLIVEIRA

Sheet Plan2
B1: PREFEITURA MUNICIPAL DE SARZEDO | C1: CRONOGRAMA FÍSICO-FINANCEIRO
A2: CRONOGRAMA FÍSICO-FINANCEIRO
A3: OBRA: REGULARIZAÇÃO DE PASSSEIOS
A4: LOCAL: BAIRROS RESIDENCIAL MASTERVILLE E IMACULADA CONCEIÇÃO - SARZEDO / MG
A5: PRAZO DE EXECUÇÃO: 60 DIAS | D5: DATA: 05/09/2022
A6: RUA-ALAMEDA DAS GAIVOTAS - BAIRRO RESIDENCIAL MASTERVILLE
A7: ITEM | B7: ETAPA | C7: TIPO DE EVOLUÇÃO | D7: VALOR TOTAL | E7: MÊS 1
A8: 1 | B8: REGULARIZAÇÃO, COMPACTAÇÃO DE SOLO E PASSEIO DE CONCRETO
A9: 1.1 | B9: REGULARIZAÇÃO, COMPACTAÇÃO DE SOLO E PASSEIO DE CONCRETO | C9: FISICO | D9: =D10/E57 -> 0.1145426 | E9: =D9 -> 0.1145426
C10: FINANCEIRO | D10: =Plan1!H8 -> 10604.019 | E10: =D10 -> 10604.019
A11: 2 | B11: URBANIZAÇÃO
A12: 2.1 | B12: GUIA DE MEIO-FIO, EM CONCRETO COM FCK 15MPA, MOLDADA IN_x0002_LOCO, SEÇÃO 25X45CM, FORMA EM MADEIRA, EXCLUSIVE SARJETA, INCLUSIVE ESCAVAÇÃO, APILOAMENTO E TRANSPORTE COM RETIRADA DO MATERIAL ESCAVADO (EM CAÇAMBA) | C12: FISICO | D12: =D13/E57 -> 0.083392947 | E12: =D12 -> 0.083392947
C13: FINANCEIRO | D13: =Plan1!H13 -> 7720.2756 | E13: =D13 -> 7720.2756
A14: 3 | B14: RIP- RAP
A15: 3.1 | B15: MURO DE ARRIMO EM RIP-RAP, COM ENCHIEMENTODE AREIA E CIMENTO. TRAÇO - 1:10 (EXECUÇÃO, INCLUINDO FORNECIMENTO E TRANSPORTE DE TODOS OS MATERIAIS), NAS DIMENSÕES: 60,00 X 1,00 x 1,00 M | C15: FÍSICO | D15: =D16/E57 -> 0.2008994 | E15: =D15 -> 0.2008994
C16: FINANCEIRO | D16: =Plan1!H15 -> 18598.68 | E16: =D16 -> 18598.68
A17: SUBTOTAL | C17: FÍSICO | D17: =D9+D12+D15 -> 0.39883494 | E17: =D17 -> 0.39883494
C18: FINANCEIRO | D18: =D10+D13+D16 -> 36922.975 | E18: =E10+E13+E16 -> 36922.975
A20: RUA-SANTO ANDRÉ - BAIRRO IMACULADA CONCEIÇÃO
A21: ITEM | B21: ETAPA | C21: TIPO DE EVOLUÇÃO | D21: VALOR TOTAL | E21: MÊS 1
A22: 4 | B22: REGULARIZAÇÃO, COMPACTAÇÃO DE SOLO E PASSEIO DE CONCRETO
A23: 4.1 | B23: REGULARIZAÇÃO, COMPACTAÇÃO DE SOLO E PASSEIO DE CONCRETO | C23: FÍSICO | D23: =D24/E57 -> 0.1145426 | E23: =D23 -> 0.1145426
C24: FINANCEIRO | D24: =Plan1!H21 -> 10604.019 | E24: =D24 -> 10604.019
A25: 5 | B25: URBANIZAÇÃO
A26: 5.1 | B26: REMOÇÃO / INSTALAÇÃO GUIA DE MEIO-FIO, EM CONCRETO COM FCK 20MPA, PRÉ_x0002_MOLDADA, MFC-03 PADRÃO DER-MG, DIMENSÕES (12X18X45)CM, EXCLUSIVE SARJETA, INCLUSIVE ESCAVAÇÃO, APILOAMENTO E TRANSPORTE COM RETIRADA DO MATERIAL ESCAVADO (EM CAÇAMBA) | C26: FÍSICO | D26: =D27/E57 -> 0.081486372 | E26: =D26 -> 0.081486372
C27: FINANCEIRO | D27: =Plan1!H26 -> 7543.7705 | E27: =D27 -> 7543.7705
A28: SUBTOTAL | C28: FÍSICO | D28: =D23+D26 -> 0.19602897 | E28: =D28 -> 0.19602897
C29: FINANCEIRO | D29: =D24+D27 -> 18147.79 | E29: =E24+E27 -> 18147.79
A31: RUA-ALAMEDA DAS AMENDOEIRAS - BAIRRO RESIDENCIAL MASTERVILLE
A32: ITEM | B32: ETAPA | C32: TIPO DE EVOLUÇÃO | D32: VALOR TOTAL | E32: MÊS 2
A33: 6 | B33: REGULARIZAÇÃO, COMPACTAÇÃO DE SOLO E PASSEIO DE CONCRETO
A34: 6.1 | B34: REGULARIZAÇÃO, COMPACTAÇÃO DE SOLO E PASSEIO DE CONCRETO | C34: FISICO | D34: =D35/E57 -> 0.13705908 | E34: =D34 -> 0.13705908
C35: FINANCEIRO | D35: =Plan1!H33 -> 12688.53 | E35: =D35 -> 12688.53
A36: 7 | B36: URBANIZAÇÃO
A37: 7.1 | B37: GUIA DE MEIO-FIO, EM CONCRETO COM FCK 20MPA, PRÉ_x0002_MOLDADA, MFC-03 PADRÃO DER-MG, DIMENSÕES (12X18X45)CM, EXCLUSIVE SARJETA, INCLUSIVE ESCAVAÇÃO, APILOAMENTO E TRANSPORTE COM RETIRADA DO MATERIAL ESCAVADO (EM CAÇAMBA) | C37: FISICO | D37: =D38/E57 -> 0.071788052 | E37: =D37 -> 0.071788052
C38: FINANCEIRO | D38: =Plan1!H39 -> 6645.9283 | E38: =D38 -> 6645.9283
A39: SUBTOTAL | C39: FISICO | D39: =D34+D37 -> 0.20884714 | E39: =D39 -> 0.20884714
C40: FINANCEIRO | D40: =D35+D38 -> 19334.458 | E40: =E35+E38 -> 19334.458
A42: RUA-MANUEL PINHEIRO - BAIRRO IMACULADA CONCEIÇÃO
A43: ITEM | B43: ETAPA | C43: TIPO DE EVOLUÇÃO | D43: VALOR TOTAL | E43: MÊS 2
A44: 8 | B44: REGULARIZAÇÃO, COMPACTAÇÃO DE SOLO E PASSEIO DE CONCRETO
A45: 8.1 | B45: REGULARIZAÇÃO, COMPACTAÇÃO DE SOLO E PASSEIO DE CONCRETO | C45: FISICO | D45: =D46/E57 -> 0.08928442 | E45: =D45 -> 0.08928442
C46: FINANCEIRO | D46: =Plan1!H45 -> 8265.691 | E46: =D46 -> 8265.691
A47: 9 | B47: URBANIZAÇÃO
A48: 9.1 | B48: GUIA DE MEIO-FIO, EM CONCRETO COM FCK 20MPA, PRÉ_x0002_MOLDADA, MFC-03 PADRÃO DER-MG, DIMENSÕES (12X18X45)CM, EXCLUSIVE SARJETA, INCLUSIVE ESCAVAÇÃO, APILOAMENTO E TRANSPORTE COM RETIRADA DO MATERIAL ESCAVADO (EM CAÇAMBA) | C48: FISICO | D48: =D49/E57 -> 0.053841039 | E48: =D48 -> 0.053841039
C49: FINANCEIRO | D49: =Plan1!H50 -> 4984.4462 | E49: =D49 -> 4984.4462
A50: 10 | B50: SARJETA
A51: 10.1 | B51: SARJETA DE CONCRETO EM CORTE TIPO DR.SCC-x/y. LARGURA = 60,00 CM TIPO 50/15 (EXECUÇÃO, INCLUINDO ESCAVAÇÃO, FORNECIMENTO E TRANSPORTE DE TODOS OS MATERIAIS) | C51: FISICO | D51: =D52/E57 -> 0.053163496 | E51: =D51 -> 0.053163496
C52: FINANCEIRO | D52: =Plan1!H52 -> 4921.7213 | E52: =D52 -> 4921.7213
A53: SUBTOTAL | C53: FISICO | D53: =D45+D48+D51 -> 0.19628895 | E53: =D53 -> 0.19628895
C54: FINANCEIRO | D54: =D46+D49+D52 -> 18171.859 | E54: =E46+E49+E52 -> 18171.859
A56: VALOR TOTAL | C56: FISICO | D56: =D17+D28+D39+D53 -> 1
C57: FINANCEIRO | E57: =E18+E29+E40+E54 -> 92577.081
B61: SECRETARIO DE OBRAS E URBANISMO VALTER EDIRALDO DE OLIVEIRA
