Workbook

Sheet PLANILHA ORÇAMENTÁRIA
A1: CNPJ: 01.612.509/0001-58 | D1: PREFEITURA MUNICIPAL DE SARZEDO | H1: RUA ELOY CÂNDIDO DE MELO, Nº 477 - CENTRO CEP. 32.450-000 / SARZEDO
A3: SECRETARIA MUNICIPAL DE OBRAS E URBANISMO
A4: PLANILHA ORÇAMENTÁRIA DE CUSTOS
A5: ATA DE REGISTRO DE PREÇOS À SER ELABORADA PELA PREFEITURA MUNICIPAL DE SARZEDO | I5: DATA: 03/008/2021
A6: OBRA: CONTRATAÇÃO DE EMPRESA DE ENGENHARIA PARA EXECUÇÃO DE SERVIÇOS DE INFRAESTRUTURA, DRENAGEM PLUVIAL, COMPLEMENTAÇÃO E MANUTENÇÃO DE REDES EXISTENTES EM DIVERSOS LOGRADOUROS DO MUNICIPIO DE SARZEDO/MG
A7: LOCAL: DIVERSOS LOGRADOUROS DO MUNICIPIO DE SARZEDO | F7: FORMA DE EXECUÇÃO: SEM DESONERAÇÃO
A8: REFERÊNCIA: PLANILHA REFERÊNCIAL SETOP ABRIL DE 2021 E SINAPI JULHO DE 2021 | F8: ( ) DIRETA | G8: (X) INDIRETA | H8: BDI | I8: 0.2094
A9: PRAZO DE EXECUÇÃO: | H9: BDI | I9: 1.2094
A10: ITEM | B10: CÓDIGO | D10: DESCRIÇÃO | E10: UNID. | F10: QTD | G10: PREÇO UNITÁRIO S/ BDI | H10: PREÇO UNITÁRIO C/ BDI | I10: PREÇO TOTAL
A11: 1.0 | B11: ADMINISTRAÇÃO CENTRAL E PRELIMINARES | I11: =SUM(I12:I23) -> 0
A12: 1.1 | B12: SINAPI | C12: 90778 | D12: ADMINISTRAÇÃO CENTRAL (ENGENHEIRO) - VER COMPOSIÇÃO | E12: HR | F12: 528
A13: 1.2 | B13: SINAPI | C13: 90776 | D13: ADMINISTRAÇÃO CENTRAL (ENCARREGADO) - VER COMPOSIÇÃO | E13: HR | F13: 1056
A14: 1.3 | B14: ED-16660 | C14: SETOP | D14: FORNECIMENTO E COLOCAÇÃO DE PLACA DE OBRA EM CHAPA GALVANIZADA #26, ESP. 0,45 MM, PLOTADA COM ADESIVO VINÍLICO, AFIXADA COM REBITES 4,8X40 MM, EM ESTRUTURA METÁLICA DE METALON 20X20 MM, ESP. 1,25 MM, INCLUSIVE SUPORTE EM EUCALIPTO AUTOCLAVADO PINTADO COM TINTA PVA DUAS (2) DEMÃOS. (12 PLACAS - CADA UMA COM 2,00 X 3,00 M) | E14: M² | F14: 72
A15: 1.4 | B15: ED-50155 | C15: IIO-SAN-005 | D15: BANHEIRO QUÍMICO 110 X 120 X 230 CM COM MANUTENÇÃO | E15: MÊS | F15: 12
A16: 1.5 | B16: ED-50137 | C16: IIO-CON-005 | D16: MOBILIZAÇÃO E DESMOBILIZAÇÃO DE CONTAINER, INCLUSIVE INSTALAÇÃO E TRANSPORTE COM CAMINHÃO GUINDAUTO (MUNCK) | E16: UN | F16: 4
A17: 1.6 | B17: ED-16349 | C17: - | D17: LOCAÇÃO DE CONTAINER COM ISOLAMENTO TÉRMICO, TIPO 2, PARA ESCRITÓRIO DE OBRA COM SANITÁRIO CONTENDO UM (1) VASO SANITÁRIO E UM (1) LAVATÓRIO, COM MEDIDAS REFERENCIAIS DE (6) METROS COMPRIMENTO, (2,3) METROS LARGURA E (2,5) METROS ALTURA ÚTIL INTERNA, INCLUSIVE AR CONDICIONADO E LIGAÇÕES ELÉTRICAS E HIDROSSANITÁRIAS INTERNAS, EXCLUSIVE MOBILIZAÇÃO/DESMOBILIZAÇÃO E LIGAÇÕES PROVISÓRIAS EXTERNAS | E17: MÊS | F17: 12
A18: 1.7 | B18: ED-16357 | C18: - | D18: LIGAÇÕES PROVISÓRIAS PARA CONTAINER TIPO 2 (CORRESPONDENTE AO CÓDIGO ED-16349) | E18: UN | F18: 1
A19: 1.8 | B19: ED-16350 | C19: - | D19: LOCAÇÃO DE CONTAINER COM ISOLAMENTO TÉRMICO, TIPO 3, PARA DEPÓSITO / FERRAMENTARIA DE OBRA, COM MEDIDAS REFERENCIAIS DE (6) METROS COMPRIMENTO, (2,3) METROS LARGURA E (2,5) METROS ALTURA ÚTIL INTERNA, INCLUSIVELIGAÇÕES ELÉTRICAS INTERNAS, EXCLUSIVE MOBILIZAÇÃO/DESMOBILIZAÇÃO E LIGAÇÕES PROVISÓRIAS EXTERNAS | E19: MÊS | F19: 12
A20: 1.9 | B20: ED-16358 | C20: - | D20: LIGAÇÕES PROVISÓRIAS PARA CONTAINER TIPO 3 (CORRESPONDENTE AO CÓDIGO ED-16350) | E20: UND | F20: 1
A21: 1.10 | B21: ED-50163 | C21: IIO-TAP-026 | D21: TAPUME COM TELA DE POLIETILENO | E21: M | F21: 1000
A22: 1.11 | B22: ED-4172 | C22: LEV-PLA-020 | D22: LEVANTAMENTO PLANIALTIMÉTRICO E CADASTRAL | E22: UND | F22: 100
A23: 1.12 | B23: ED-4050 | C23: PROJ-EXE-075 | D23: PROJETO EXECUTIVO DE DRENAGEM PLUVIAL | E23: PR A1 | F23: 100
A24: 2.0 | B24: TERRAPLENAGEM / TRABALHOS EM TERRA INFRAESTRUTURA
A25: 2.1 | B25: RO-43333 | C25: OBR-VIA-005 | D25: DESMATAMENTO, DESTOCAMENTO E LIMPEZA DE ÁRVORES, ARBUSTOS E VEGETAÇÃO RASTEIRA. (EXECUÇÃO NA ESPESSURA DE ATÉ 30CM, INCLUINDO REMANEJAMENTO PARA FORA DA LINHA DE OFFSETS E ACERTO DO MATERIAL) | E25: M² | F25: 1000
A26: 2.2 | B26: ED-51105 | C26: TER-ESC-015 | D26: ESCAVAÇÃO E CARGA MECANIZADA EM MATERIAL DE 1ª CATEGORIA | E26: M³ | F26: 100
A27: 2.3 | B27: ED-51098 | C27: TER-ATE-020 | D27: ATERRO COMPACTADO COM ROLO VIBRATÓRIO A 95% DO P.N. | E27: M³ | F27: 10000
A28: 2.4 | B28: ED-51096 | C28: TER-ATE-010 | D28: ATERRO COMPACTADO COM PLACA VIBRATÓRIA | E28: M³ | F28: 10000
A29: 2.5 | B29: 40.32.32 | C29: SUDECAP | D29: REATERRO COMPACTADO COM ROLO VIBRATORIO | E29: M³ | F29: 50000
A30: 2.6 | B30: ED-51124 | C30: TER-REG-015 | D30: REGULARIZAÇÃO E COMPACTAÇÃO DE TERRENO COM ROLO VIBRATÓRIO | E30: M² | F30: 10000
A31: 2.7 | B31: ED-51132 | C31: TRA-CAR-010 | D31: CARGA DE MATERIAL DE QUALQUER NATUREZA SOBRE CAMINHÃO - MECÂNICA | E31: M³ | F31: 100000
A32: 2.8 | B32: ED-51130 | C32: TRA-CAM-020 | D32: TRANSPORTE DE MATERIAL DE QUALQUER NATUREZA EM CAMINHÃO DMT > 5 KM (DENTRO DO PERÍMETRO URBANO) | E32: M³XKM | F32: 100000
A33: 3.0 | B33: REMOÇÃO, ESCAVAÇÃO, REATERRO, TRANSPORTE E BOTA FORA PARA DRENAGEM | I33: =SUM(I34:I42) -> 0
A34: 3.1 | B34: ED-48472 | C34: DEM-MFC-005 | D34: REMOÇÃO DE MEIO-FIO PRÉ-MOLDADO DE CONCRETO INCLUSIVE CARGA | E34: M | F34: 5000
A35: 3.2 | B35: RO-41211 | C35: - | D35: REMOÇÃO E CARGA DE TODO PAVIMENTO EXISTENTE (CORTE EM ASFALTO) | E35: M³ | F35: 2800
A36: 3.3 | B36: ED-51111 | C36: TER-ESC-055 | D36: ESCAVAÇÃO MECÂNICA DE VALAS COM DESCARGA LATERAL H <= 1,50 M | E36: M³ | F36: 30000
A37: 3.4 | B37: ED-51112 | C37: TER-ESC-060 | D37: ESCAVAÇÃO MECÂNICA DE VALAS COM DESCARGA LATERAL 1,50 M < H <= 3,00 M | E37: M³ | F37: 30000
A38: 3.5 | B38: ED-51113 | C38: TER-ESC-065 | D38: ESCAVAÇÃO MECÂNICA DE VALAS COM DESCARGA LATERAL 3,00 M < H <= 5,00 M | E38: M³ | F38: 35000
A39: 3.6 | B39: ED-51121 | C39: TER-REA-010 | D39: REATERRO COMPACTADO DE VALA COM EQUIPAMENTO PLACA VIBRATÓRIA | E39: M³ | F39: 107726.54
A40: 3.7 | B40: ED-51127 | C40: TRA-CAM-005 | D40: TRANSPORTE DE MATERIAL DE QUALQUER NATUREZA EM CAMINHÃO DMT <= 1 KM (DENTRO DO PERÍMETRO URBANO) | E40: M³ | F40: 50000
A41: 3.8 | B41: ED-51132 | C41: TRA-CAR-010 | D41: CARGA DE MATERIAL DE QUALQUER NATUREZA SOBRE CAMINHÃO - MECÂNICA | E41: M³ | F41: 15773.45
...

Sheet CRONOGRAMA FÍSICO FINANCEIRO
A1: CNPJ: 01.612.509/0001-58 | D1: PREFEITURA MUNICIPAL DE SARZEDO | P1: RUA ELOY CÂNDIDO DE MELO, Nº 477 - CENTRO CEP. 32.450-000 / SARZEDO
D2: SECRETARIA MUNICIPAL DE OBRAS E URBANISMO
D3: CRONOGRAMA FÍSICO FINANCEIRO
A4: ATA DE REGISTRO DE PREÇOS À SER ELABORADA PELA PREFEITURA MUNICIPAL DE SARZEDO | P4: DATA:03/08/2021
A5: OBRA: CONTRATAÇÃO DE EMPRESA DE ENGENHARIA PARA EXECUÇÃO DE SERVIÇOS DE INFRAESTRUTURA, DRENAGEM PLUVIAL, COMPLEMENTAÇÃO E MANUTENÇÃO DE REDES EXISTENTES EM DIVERSOS LOGRADOUROS DO MUNICIPIO DE SARZEDO/MG
A6: LOCAL: DIVERSOS LOGRADOUROS DO MUNICIPIO DE SARZEDO | F6: FORMA DE EXECUÇÃO SEM DESONERAÇÃO | H6: ( ) DIRETA | I6: (X) INDIRETA | J6: REFERÊNCIA: PLANILHA REFERÊNCIAL SETOP ABRIL DE 2021 E SINAPI JULHO DE 2021
A7: PRAZO DE EXECUÇÃO: 12 MESES | F7: ETAPAS
A8: ITEM | B8: DESCRIÇÃO | E8: FÍSICO FINANCEIRO | F8: TOTAL DAS ETAPAS | G8: 1º MÊS | H8: 2º MÊS | I8: 3º MÊS | J8: 4º MÊS | K8: 5º MÊS | L8: 6º MÊS | M8: 7º MÊS | N8: 8º MÊS | O8: 9º MÊS | P8: 10º MÊS | Q8: 11º MÊS | R8: 12º MÊS
A9: ='PLANILHA ORÇAMENTÁRIA'!A11 -> 1.0 | B9: ='PLANILHA ORÇAMENTÁRIA'!B11:F11 -> ADMINISTRAÇÃO CENTRAL E PRELIMINARES | E9: FÍSICO | F9: =F10/F34 -> #DIV/0! | G9: =F9/12 -> #DIV/0! | H9: =F9/12 -> #DIV/0! | I9: =F9/12 -> #DIV/0! | J9: =F9/12 -> #DIV/0! | K9: =F9/12 -> #DIV/0! | L9: =F9/12 -> #DIV/0! | M9: =F9/12 -> #DIV/0! | N9: =F9/12 -> #DIV/0! | O9: =F9/12 -> #DIV/0! | P9: =F9/12 -> #DIV/0! | Q9: =F9/12 -> #DIV/0! | R9: =F9/12 -> #DIV/0!
E10: FINANCEIRO | F10: ='PLANILHA ORÇAMENTÁRIA'!I11 -> 0 | G10: =F10/12 -> 0 | H10: =F10/12 -> 0 | I10: =F10/12 -> 0 | J10: =F10/12 -> 0 | K10: =F10/12 -> 0 | L10: =F10/12 -> 0 | M10: =F10/12 -> 0 | N10: =F10/12 -> 0 | O10: =F10/12 -> 0 | P10: =F10/12 -> 0 | Q10: =F10/12 -> 0 | R10: =F10/12 -> 0
A11: ='PLANILHA ORÇAMENTÁRIA'!A24 -> 2.0 | B11: ='PLANILHA ORÇAMENTÁRIA'!B24:F24 -> TERRAPLENAGEM / TRABALHOS EM TERRA INFRAESTRUTURA | E11: FÍSICO | F11: =F12/F34 -> #DIV/0! | G11: =F11/12 -> #DIV/0! | H11: =F11/12 -> #DIV/0! | I11: =F11/12 -> #DIV/0! | J11: =F11/12 -> #DIV/0! | K11: =F11/12 -> #DIV/0! | L11: =F11/12 -> #DIV/0! | M11: =F11/12 -> #DIV/0! | N11: =F11/12 -> #DIV/0! | O11: =F11/12 -> #DIV/0! | P11: =F11/12 -> #DIV/0! | Q11: =F11/12 -> #DIV/0! | R11: =F11/12 -> #DIV/0!
E12: FINANCEIRO | F12: ='PLANILHA ORÇAMENTÁRIA'!I24 -> 0 | G12: =F12/12 -> 0 | H12: =F12/12 -> 0 | I12: =F12/12 -> 0 | J12: =F12/12 -> 0 | K12: =F12/12 -> 0 | L12: =F12/12 -> 0 | M12: =F12/12 -> 0 | N12: =F12/12 -> 0 | O12: =F12/12 -> 0 | P12: =F12/12 -> 0 | Q12: =F12/12 -> 0 | R12: =F12/12 -> 0
A13: ='PLANILHA ORÇAMENTÁRIA'!A33 -> 3.0 | B13: ='PLANILHA ORÇAMENTÁRIA'!B33:H33 -> REMOÇÃO, ESCAVAÇÃO, REATERRO, TRANSPORTE E BOTA FORA PARA DRENAGEM | E13: FÍSICO | F13: =F14/F34 -> #DIV/0! | G13: =F13/12 -> #DIV/0! | H13: =F13/12 -> #DIV/0! | I13: =F13/12 -> #DIV/0! | J13: =F13/12 -> #DIV/0! | K13: =F13/12 -> #DIV/0! | L13: =F13/12 -> #DIV/0! | M13: =F13/12 -> #DIV/0! | N13: =F13/12 -> #DIV/0! | O13: =F13/12 -> #DIV/0! | P13: =F13/12 -> #DIV/0! | Q13: =F13/12 -> #DIV/0! | R13: =F13/12 -> #DIV/0!
E14: FINANCEIRO | F14: ='PLANILHA ORÇAMENTÁRIA'!I33 -> 0 | G14: =F14/12 -> 0 | H14: =F14/12 -> 0 | I14: =F14/12 -> 0 | J14: =F14/12 -> 0 | K14: =F14/12 -> 0 | L14: =F14/12 -> 0 | M14: =F14/12 -> 0 | N14: =F14/12 -> 0 | O14: =F14/12 -> 0 | P14: =F14/12 -> 0 | Q14: =F14/12 -> 0 | R14: =F14/12 -> 0
A15: ='PLANILHA ORÇAMENTÁRIA'!A43 -> 4.0 | B15: ='PLANILHA ORÇAMENTÁRIA'!B43:F43 -> ESCORAMENTO | E15: FÍSICO | F15: =F16/F34 -> #DIV/0! | G15: =F15/12 -> #DIV/0! | H15: =F15/12 -> #DIV/0! | I15: =F15/12 -> #DIV/0! | J15: =F15/12 -> #DIV/0! | K15: =F15/12 -> #DIV/0! | L15: =F15/12 -> #DIV/0! | M15: =F15/12 -> #DIV/0! | N15: =F15/12 -> #DIV/0! | O15: =F15/12 -> #DIV/0! | P15: =F15/12 -> #DIV/0! | Q15: =F15/12 -> #DIV/0! | R15: =F15/12 -> #DIV/0!
E16: FINANCEIRO | F16: ='PLANILHA ORÇAMENTÁRIA'!I43 -> 0 | G16: =F16/12 -> 0 | H16: =F16/12 -> 0 | I16: =F16/12 -> 0 | J16: =F16/12 -> 0 | K16: =F16/12 -> 0 | L16: =F16/12 -> 0 | M16: =F16/12 -> 0 | N16: =F16/12 -> 0 | O16: =F16/12 -> 0 | P16: =F16/12 -> 0 | Q16: =F16/12 -> 0 | R16: =F16/12 -> 0
A17: ='PLANILHA ORÇAMENTÁRIA'!A45 -> 5.0 | B17: ='PLANILHA ORÇAMENTÁRIA'!B45:F45 -> ENRONCAMENTO E BERÇO | E17: FÍSICO | F17: =F18/F34 -> #DIV/0! | G17: =F17/12 -> #DIV/0! | H17: =F17/12 -> #DIV/0! | I17: =F17/12 -> #DIV/0! | J17: =F17/12 -> #DIV/0! | K17: =F17/12 -> #DIV/0! | L17: =F17/12 -> #DIV/0! | M17: =F17/12 -> #DIV/0! | N17: =F17/12 -> #DIV/0! | O17: =F17/12 -> #DIV/0! | P17: =F17/12 -> #DIV/0! | Q17: =F17/12 -> #DIV/0! | R17: =F17/12 -> #DIV/0!
E18: FINANCEIRO | F18: ='PLANILHA ORÇAMENTÁRIA'!I45 -> 0 | G18: =F18/12 -> 0 | H18: =F18/12 -> 0 | I18: =F18/12 -> 0 | J18: =F18/12 -> 0 | K18: =F18/12 -> 0 | L18: =F18/12 -> 0 | M18: =F18/12 -> 0 | N18: =F18/12 -> 0 | O18: =F18/12 -> 0 | P18: =F18/12 -> 0 | Q18: =F18/12 -> 0 | R18: =F18/12 -> 0
A19: ='PLANILHA ORÇAMENTÁRIA'!A48 -> 6.0 | B19: ='PLANILHA ORÇAMENTÁRIA'!B48:F48 -> TUBO DE CONCRETO | E19: FÍSICO | F19: =F20/F34 -> #DIV/0! | G19: =F19/12 -> #DIV/0! | H19: =F19/12 -> #DIV/0! | I19: =F19/12 -> #DIV/0! | J19: =F19/12 -> #DIV/0! | K19: =F19/12 -> #DIV/0! | L19: =F19/12 -> #DIV/0! | M19: =F19/12 -> #DIV/0! | N19: =F19/12 -> #DIV/0! | O19: =F19/12 -> #DIV/0! | P19: =F19/12 -> #DIV/0! | Q19: =F19/12 -> #DIV/0! | R19: =F19/12 -> #DIV/0!
E20: FINANCEIRO | F20: ='PLANILHA ORÇAMENTÁRIA'!I48 -> 0 | G20: =F20/12 -> 0 | H20: =F20/12 -> 0 | I20: =F20/12 -> 0 | J20: =F20/12 -> 0 | K20: =F20/12 -> 0 | L20: =F20/12 -> 0 | M20: =F20/12 -> 0 | N20: =F20/12 -> 0 | O20: =F20/12 -> 0 | P20: =F20/12 -> 0 | Q20: =F20/12 -> 0 | R20: =F20/12 -> 0
A21: ='PLANILHA ORÇAMENTÁRIA'!A54 -> 7.0 | B21: ='PLANILHA ORÇAMENTÁRIA'!B54:F54 -> CAIXAS, POÇO DE VISITA, DESCIDA D'AGUA, ALA E BOCA DE LOBO | E21: FÍSICO | F21: =F22/F34 -> #DIV/0! | G21: =F21/12 -> #DIV/0! | H21: =F21/12 -> #DIV/0! | I21: =F21/12 -> #DIV/0! | J21: =F21/12 -> #DIV/0! | K21: =F21/12 -> #DIV/0! | L21: =F21/12 -> #DIV/0! | M21: =F21/12 -> #DIV/0! | N21: =F21/12 -> #DIV/0! | O21: =F21/12 -> #DIV/0! | P21: =F21/12 -> #DIV/0! | Q21: =F21/12 -> #DIV/0! | R21: =F21/12 -> #DIV/0!
E22: FINANCEIRO | F22: ='PLANILHA ORÇAMENTÁRIA'!I54 -> 0 | G22: =F22/12 -> 0 | H22: =F22/12 -> 0 | I22: =F22/12 -> 0 | J22: =F22/12 -> 0 | K22: =F22/12 -> 0 | L22: =F22/12 -> 0 | M22: =F22/12 -> 0 | N22: =F22/12 -> 0 | O22: =F22/12 -> 0 | P22: =F22/12 -> 0 | Q22: =F22/12 -> 0 | R22: =F22/12 -> 0
A23: ='PLANILHA ORÇAMENTÁRIA'!A79 -> 8.0 | B23: ='PLANILHA ORÇAMENTÁRIA'!B79:F79 -> CONTENÇÃO | E23: FÍSICO | F23: =F24/F34 -> #DIV/0! | G23: =F23/12 -> #DIV/0! | H23: =F23/12 -> #DIV/0! | I23: =F23/12 -> #DIV/0! | J23: =F23/12 -> #DIV/0! | K23: =F23/12 -> #DIV/0! | L23: =F23/12 -> #DIV/0! | M23: =F23/12 -> #DIV/0! | N23: =F23/12 -> #DIV/0! | O23: =F23/12 -> #DIV/0! | P23: =F23/12 -> #DIV/0! | Q23: =F23/12 -> #DIV/0! | R23: =F23/12 -> #DIV/0!
E24: FINANCEIRO | F24: ='PLANILHA ORÇAMENTÁRIA'!I79 -> 0 | G24: =F24/12 -> 0 | H24: =F24/12 -> 0 | I24: =F24/12 -> 0 | J24: =F24/12 -> 0 | K24: =F24/12 -> 0 | L24: =F24/12 -> 0 | M24: =F24/12 -> 0 | N24: =F24/12 -> 0 | O24: =F24/12 -> 0 | P24: =F24/12 -> 0 | Q24: =F24/12 -> 0 | R24: =F24/12 -> 0
A25: ='PLANILHA ORÇAMENTÁRIA'!A84 -> 9.0 | B25: ='PLANILHA ORÇAMENTÁRIA'!B84:F84 -> DIVERSOS | E25: FÍSICO | F25: =F26/F34 -> #DIV/0! | G25: =F25/12 -> #DIV/0! | H25: =F25/12 -> #DIV/0! | I25: =F25/12 -> #DIV/0! | J25: =F25/12 -> #DIV/0! | K25: =F25/12 -> #DIV/0! | L25: =F25/12 -> #DIV/0! | M25: =F25/12 -> #DIV/0! | N25: =F25/12 -> #DIV/0! | O25: =F25/12 -> #DIV/0! | P25: =F25/12 -> #DIV/0! | Q25: =F25/12 -> #DIV/0! | R25: =F25/12 -> #DIV/0!
E26: FINANCEIRO | F26: ='PLANILHA ORÇAMENTÁRIA'!I84 -> 0 | G26: =F26/12 -> 0 | H26: =F26/12 -> 0 | I26: =F26/12 -> 0 | J26: =F26/12 -> 0 | K26: =F26/12 -> 0 | L26: =F26/12 -> 0 | M26: =F26/12 -> 0 | N26: =F26/12 -> 0 | O26: =F26/12 -> 0 | P26: =F26/12 -> 0 | Q26: =F26/12 -> 0 | R26: =F26/12 -> 0
A27: ='PLANILHA ORÇAMENTÁRIA'!A96 -> 10.0 | B27: ='PLANILHA ORÇAMENTÁRIA'!B96:F96 -> GRELHA DE CONCRETO E TAMPÃO DE FERRO FUNDIDO | E27: FÍSICO | F27: =F28/F34 -> #DIV/0! | G27: =F27/12 -> #DIV/0! | H27: =F27/12 -> #DIV/0! | I27: =F27/12 -> #DIV/0! | J27: =F27/12 -> #DIV/0! | K27: =F27/12 -> #DIV/0! | L27: =F27/12 -> #DIV/0! | M27: =F27/12 -> #DIV/0! | N27: =F27/12 -> #DIV/0! | O27: =F27/12 -> #DIV/0! | P27: =F27/12 -> #DIV/0! | Q27: =F27/12 -> #DIV/0! | R27: =F27/12 -> #DIV/0!
E28: FINANCEIRO | F28: ='PLANILHA ORÇAMENTÁRIA'!I96 -> 0 | G28: =F28/12 -> 0 | H28: =F28/12 -> 0 | I28: =F28/12 -> 0 | J28: =F28/12 -> 0 | K28: =F28/12 -> 0 | L28: =F28/12 -> 0 | M28: =F28/12 -> 0 | N28: =F28/12 -> 0 | O28: =F28/12 -> 0 | P28: =F28/12 -> 0 | Q28: =F28/12 -> 0 | R28: =F28/12 -> 0
A29: ='PLANILHA ORÇAMENTÁRIA'!A99 -> 11.0 | B29: ='PLANILHA ORÇAMENTÁRIA'!B99:F99 -> LIMPEZA E DESOBSTRUÇÃO DO SISTEMA DE DRENAGEM | E29: FÍSICO | F29: =F30/F34 -> #DIV/0! | G29: =F29/12 -> #DIV/0! | H29: =F29/12 -> #DIV/0! | I29: =F29/12 -> #DIV/0! | J29: =F29/12 -> #DIV/0! | K29: =F29/12 -> #DIV/0! | L29: =F29/12 -> #DIV/0! | M29: =F29/12 -> #DIV/0! | N29: =F29/12 -> #DIV/0! | O29: =F29/12 -> #DIV/0! | P29: =F29/12 -> #DIV/0! | Q29: =F29/12 -> #DIV/0! | R29: =F29/12 -> #DIV/0!
E30: FINANCEIRO | F30: ='PLANILHA ORÇAMENTÁRIA'!I99 -> 0 | G30: =F30/12 -> 0 | H30: =F30/12 -> 0 | I30: =F30/12 -> 0 | J30: =F30/12 -> 0 | K30: =F30/12 -> 0 | L30: =F30/12 -> 0 | M30: =F30/12 -> 0 | N30: =F30/12 -> 0 | O30: =F30/12 -> 0 | P30: =F30/12 -> 0 | Q30: =F30/12 -> 0 | R30: =F30/12 -> 0
A31: ='PLANILHA ORÇAMENTÁRIA'!A104 -> 12.0 | B31: ='PLANILHA ORÇAMENTÁRIA'!B104:F104 -> LIMPEZA FINAL DA OBRA | E31: FÍSICO | F31: =F32/F34 -> #DIV/0! | G31: =F31/12 -> #DIV/0! | H31: =F31/12 -> #DIV/0! | I31: =F31/12 -> #DIV/0! | J31: =F31/12 -> #DIV/0! | K31: =F31/12 -> #DIV/0! | L31: =F31/12 -> #DIV/0! | M31: =F31/12 -> #DIV/0! | N31: =F31/12 -> #DIV/0! | O31: =F31/12 -> #DIV/0! | P31: =F31/12 -> #DIV/0! | Q31: =F31/12 -> #DIV/0! | R31: =F31/12 -> #DIV/0!
E32: FINANCEIRO | F32: ='PLANILHA ORÇAMENTÁRIA'!I104 -> 0 | G32: =F32/12 -> 0 | H32: =F32/12 -> 0 | I32: =F32/12 -> 0 | J32: =F32/12 -> 0 | K32: =F32/12 -> 0 | L32: =F32/12 -> 0 | M32: =F32/12 -> 0 | N32: =F32/12 -> 0 | O32: =F32/12 -> 0 | P32: =F32/12 -> 0 | Q32: =F32/12 -> 0 | R32: =F32/12 -> 0
A33: TOTAL | E33: FÍSICO | F33: =F9+F11+F13+F15+F17+F19+F21+F23+F25+F27+F29+F31 -> #DIV/0! | G33: =G9+G13+G15+G17+G19+G21+G23+G25+G11+G27+G29+G31 -> #DIV/0! | H33: =H9+H13+H15+H17+H19+H21+H23+H25+H11+H27+H29+H31 -> #DIV/0! | I33: =I9+I13+I15+I17+I19+I21+I23+I25+I11+I27+I29+I31 -> #DIV/0! | J33: =J9+J13+J15+J17+J19+J21+J23+J25+J11+J27+J29+J31 -> #DIV/0! | K33: =K9+K13+K15+K17+K19+K21+K23+K25+K11+K27+K29+K31 -> #DIV/0! | L33: =L9+L13+L15+L17+L19+L21+L23+L25+L11+L27+L29+L31 -> #DIV/0! | M33: =M9+M13+M15+M17+M19+M21+M23+M25+M11+M27+M29+M31 -> #DIV/0! | N33: =N9+N13+N15+N17+N19+N21+N23+N25+N11+N27+N29+N31 -> #DIV/0! | ... R33: =R9+R13+R15+R17+R19+R21+R23+R25+R11+R27+R29+R31 -> #DIV/0!
E34: FINANCEIRO | F34: =F10+F12+F14+F16+F18+F20+F22+F24+F26+F28+F30+F32 -> 0 | G34: =G10+G14+G16+G18+G20+G22+G24+G26+G12+G28+G30+G32 -> 0 | H34: =H10+H14+H16+H18+H20+H22+H24+H26+H12+H28+H30+H32 -> 0 | I34: =I10+I14+I16+I18+I20+I22+I24+I26+I12+I28+I30+I32 -> 0 | J34: =J10+J14+J16+J18+J20+J22+J24+J26+J12+J28+J30+J32 -> 0 | K34: =K10+K14+K16+K18+K20+K22+K24+K26+K12+K28+K30+K32 -> 0 | L34: =L10+L14+L16+L18+L20+L22+L24+L26+L12+L28+L30+L32 -> 0 | M34: =M10+M14+M16+M18+M20+M22+M24+M26+M12+M28+M30+M32 -> 0 | N34: =N10+N14+N16+N18+N20+N22+N24+N26+N12+N28+N30+N32 -> 0 | ... R34: =R10+R14+R16+R18+R20+R22+R24+R26+R12+R28+R30+R32 -> 0
A36: ELABORADO POR:
A38: STEFANE A. BATISTA MOREIRA
A40: ENGENHEIRA CIVIL - CREA: 221.259/D
A42: DATA: 03 DE AGOSTO DE 2021
